Workbook
Name doal_use_list: #REF!
Name link: '[1]קישורים למפות'!$C$2

Sheet נתונים מניתוח אגירה (2)
B1: 1 | C1: 2 | D1: 3 | E1: 4 | F1: 5 | G1: 6 | H1: 7
B2: יישוב | C2: KW | D2: KWH | E2: אחוז עצמאות אנרגטית בפועל חורף | F2: עלות מערכותPV - ללא תחזוקה | G2: עלות אגירה - ללא תחזוקה | H2: עלות תחזוקה | I2: עלות מערכת אגירה | J2: עלות תחזוקה מהוונת | K2: 1 | L2: 2 | M2: 3 | N2: 4 | O2: 5 | P2: 6 | Q2: 7 | R2: 8 | S2: 9 | T2: 10 | U2: 11 | V2: 12 | W2: 13 | X2: 14 | Y2: 15 | Z2: 16 | AA2: 17 | AB2: 18 | AC2: 19 | AD2: 20
A3: אבשלום | B3: אבשלום | C3: 513.53404 | D3: 2702.8108 | E3: 0.18210408 | F3: 4161009 | G3: 4245351.6 | H3: 1317909.9 | I3: =(C3*'[1]נתוני אגירה'!$B$8+'[1]נתוני אגירה'!$B$4*'נתונים מניתוח אגירה (2)'!D4+'[1]נתוני אגירה'!$B$12)*'[1]נתוני אגירה'!$B$15 -> 5744728.5 | J3: =NPV('[1]נתוני אגירה'!$B$17,'נתונים מניתוח אגירה (2)'!K4:AD4) -> #REF! | K3: =#REF!*'[1]נתוני אגירה'!$B$16 -> #REF! | L3: =#REF!*'[1]נתוני אגירה'!$B$16 -> #REF! | M3: =#REF!*'[1]נתוני אגירה'!$B$16 -> #REF! | N3: =#REF!*'[1]נתוני אגירה'!$B$16 -> #REF! | O3: =#REF!*'[1]נתוני אגירה'!$B$16 -> #REF! | P3: =#REF!*'[1]נתוני אגירה'!$B$16 -> #REF! | Q3: =#REF!*'[1]נתוני אגירה'!$B$16 -> #REF! | R3: =#REF!*'[1]נתוני אגירה'!$B$16 -> #REF! | ... AD3: =#REF!*'[1]נתוני אגירה'!$B$16 -> #REF!
A4: אוהד | B4: אוהד | C4: 886.8697 | D4: 4667.7352 | E4: 0.63964832 | F4: 6011848.4 | G4: 6840891.1 | H4: 2016701.4 | I4: =(C4*'[1]נתוני אגירה'!$B$8+'[1]נתוני אגירה'!$B$4*'נתונים מניתוח אגירה (2)'!D7+'[1]נתוני אגירה'!$B$12)*'[1]נתוני אגירה'!$B$15 -> 5482106.7 | J4: =NPV('[1]נתוני אגירה'!$B$17,'נתונים מניתוח אגירה (2)'!K7:AD7) -> #REF! | K4: =#REF!*'[1]נתוני אגירה'!$B$16 -> #REF! | L4: =#REF!*'[1]נתוני אגירה'!$B$16 -> #REF! | M4: =#REF!*'[1]נתוני אגירה'!$B$16 -> #REF! | N4: =#REF!*'[1]נתוני אגירה'!$B$16 -> #REF! | O4: =#REF!*'[1]נתוני אגירה'!$B$16 -> #REF! | P4: =#REF!*'[1]נתוני אגירה'!$B$16 -> #REF! | Q4: =#REF!*'[1]נתוני אגירה'!$B$16 -> #REF! | R4: =#REF!*'[1]נתוני אגירה'!$B$16 -> #REF! | ... AD4: =#REF!*'[1]נתוני אגירה'!$B$16 -> #REF!
A5: אור הנר | B5: אור הנר | C5: 1061.6403 | D5: 5587.5805 | E5: 1 | F5: 26751608 | G5: 8055947.8 | H5: 4774330 | I5: =(C5*'[1]נתוני אגירה'!$B$8+'[1]נתוני אגירה'!$B$4*'נתונים מניתוח אגירה (2)'!D45+'[1]נתוני אגירה'!$B$12)*'[1]נתוני אגירה'!$B$15 -> 7699525.8 | J5: =NPV('[1]נתוני אגירה'!$B$17,'נתונים מניתוח אגירה (2)'!K45:AD45) -> #REF! | K5: =#REF!*'[1]נתוני אגירה'!$B$16 -> #REF! | L5: =#REF!*'[1]נתוני אגירה'!$B$16 -> #REF! | M5: =#REF!*'[1]נתוני אגירה'!$B$16 -> #REF! | N5: =#REF!*'[1]נתוני אגירה'!$B$16 -> #REF! | O5: =#REF!*'[1]נתוני אגירה'!$B$16 -> #REF! | P5: =#REF!*'[1]נתוני אגירה'!$B$16 -> #REF! | Q5: =#REF!*'[1]נתוני אגירה'!$B$16 -> #REF! | R5: =#REF!*'[1]נתוני אגירה'!$B$16 -> #REF! | ... AD5: =#REF!*'[1]נתוני אגירה'!$B$16 -> #REF!
A6: איבים | B6: איבים | C6: 321.89345 | D6: 1694.1761 | E6: 0.79988645 | F6: 3533942 | G6: 2913009.7 | H6: 918951.51 | I6: =(C6*'[1]נתוני אגירה'!$B$8+'[1]נתוני אגירה'!$B$4*'נתונים מניתוח אגירה (2)'!D44+'[1]נתוני אגירה'!$B$12)*'[1]נתוני אגירה'!$B$15 -> 3668269.4 | J6: =NPV('[1]נתוני אגירה'!$B$17,'נתונים מניתוח אגירה (2)'!K44:AD44) -> #REF! | K6: =#REF!*'[1]נתוני אגירה'!$B$16 -> #REF! | L6: =#REF!*'[1]נתוני אגירה'!$B$16 -> #REF! | M6: =#REF!*'[1]נתוני אגירה'!$B$16 -> #REF! | N6: =#REF!*'[1]נתוני אגירה'!$B$16 -> #REF! | O6: =#REF!*'[1]נתוני אגירה'!$B$16 -> #REF! | P6: =#REF!*'[1]נתוני אגירה'!$B$16 -> #REF! | Q6: =#REF!*'[1]נתוני אגירה'!$B$16 -> #REF! | R6: =#REF!*'[1]נתוני אגירה'!$B$16 -> #REF! | ... AD6: =#REF!*'[1]נתוני אגירה'!$B$16 -> #REF!
A7: ארז | B7: ארז | C7: 548.54071 | D7: 2887.0564 | E7: 1 | F7: 26503562 | G7: 4488728.3 | H7: 4099695 | I7: =(C7*'[1]נתוני אגירה'!$B$8+'[1]נתוני אגירה'!$B$4*'נתונים מניתוח אגירה (2)'!D46+'[1]נתוני אגירה'!$B$12)*'[1]נתוני אגירה'!$B$15 -> 6088240.2 | J7: =NPV('[1]נתוני אגירה'!$B$17,'נתונים מניתוח אגירה (2)'!K46:AD46) -> #REF! | K7: =#REF!*'[1]נתוני אגירה'!$B$16 -> #REF! | L7: =#REF!*'[1]נתוני אגירה'!$B$16 -> #REF! | M7: =#REF!*'[1]נתוני אגירה'!$B$16 -> #REF! | N7: =#REF!*'[1]נתוני אגירה'!$B$16 -> #REF! | O7: =#REF!*'[1]נתוני אגירה'!$B$16 -> #REF! | P7: =#REF!*'[1]נתוני אגירה'!$B$16 -> #REF! | Q7: =#REF!*'[1]נתוני אגירה'!$B$16 -> #REF! | R7: =#REF!*'[1]נתוני אגירה'!$B$16 -> #REF! | ... AD7: =#REF!*'[1]נתוני אגירה'!$B$16 -> #REF!
A8: בארי | B8: בארי | C8: 601.61253 | D8: 3166.3817 | E8: 1 | F8: 44502145 | G8: 4857699.2 | H8: 5664282.9 | I8: =(C8*'[1]נתוני אגירה'!$B$8+'[1]נתוני אגירה'!$B$4*'נתונים מניתוח אגירה (2)'!D22+'[1]נתוני אגירה'!$B$12)*'[1]נתוני אגירה'!$B$15 -> 6913843.9 | J8: =NPV('[1]נתוני אגירה'!$B$17,'נתונים מניתוח אגירה (2)'!K22:AD22) -> #REF! | K8: =#REF!*'[1]נתוני אגירה'!$B$16 -> #REF! | L8: =#REF!*'[1]נתוני אגירה'!$B$16 -> #REF! | M8: =#REF!*'[1]נתוני אגירה'!$B$16 -> #REF! | N8: =#REF!*'[1]נתוני אגירה'!$B$16 -> #REF! | O8: =#REF!*'[1]נתוני אגירה'!$B$16 -> #REF! | P8: =#REF!*'[1]נתוני אגירה'!$B$16 -> #REF! | Q8: =#REF!*'[1]נתוני אגירה'!$B$16 -> #REF! | R8: =#REF!*'[1]נתוני אגירה'!$B$16 -> #REF! | ... AD8: =#REF!*'[1]נתוני אגירה'!$B$16 -> #REF!
A9: ברור חיל | B9: ברור חיל | C9: 169.69883 | D9: 893.15175 | E9: 1 | F9: 33871311 | G9: 1854907.9 | H9: 4296164.4 | I9: =(C9*'[1]נתוני אגירה'!$B$8+'[1]נתוני אגירה'!$B$4*'נתונים מניתוח אגירה (2)'!D48+'[1]נתוני אגירה'!$B$12)*'[1]נתוני אגירה'!$B$15 -> 2.0079875e+08 | J9: =NPV('[1]נתוני אגירה'!$B$17,'נתונים מניתוח אגירה (2)'!K48:AD48) -> #REF! | K9: =#REF!*'[1]נתוני אגירה'!$B$16 -> #REF! | L9: =#REF!*'[1]נתוני אגירה'!$B$16 -> #REF! | M9: =#REF!*'[1]נתוני אגירה'!$B$16 -> #REF! | N9: =#REF!*'[1]נתוני אגירה'!$B$16 -> #REF! | O9: =#REF!*'[1]נתוני אגירה'!$B$16 -> #REF! | P9: =#REF!*'[1]נתוני אגירה'!$B$16 -> #REF! | Q9: =#REF!*'[1]נתוני אגירה'!$B$16 -> #REF! | R9: =#REF!*'[1]נתוני אגירה'!$B$16 -> #REF! | ... AD9: =#REF!*'[1]נתוני אגירה'!$B$16 -> #REF!
A10: גבים | B10: גבים | C10: 1831.9076 | D10: 9641.6191 | E10: 1 | F10: 1.3110011e+08 | G10: 13411073 | H10: 21208946 | I10: =(C10*'[1]נתוני אגירה'!$B$8+'[1]נתוני אגירה'!$B$4*'נתונים מניתוח אגירה (2)'!D53+'[1]נתוני אגירה'!$B$12)*'[1]נתוני אגירה'!$B$15 -> 10863405 | J10: =NPV('[1]נתוני אגירה'!$B$17,'נתונים מניתוח אגירה (2)'!K53:AD53) -> #REF! | K10: =#REF!*'[1]נתוני אגירה'!$B$16 -> #REF! | L10: =#REF!*'[1]נתוני אגירה'!$B$16 -> #REF! | M10: =#REF!*'[1]נתוני אגירה'!$B$16 -> #REF! | N10: =#REF!*'[1]נתוני אגירה'!$B$16 -> #REF! | O10: =#REF!*'[1]נתוני אגירה'!$B$16 -> #REF! | P10: =#REF!*'[1]נתוני אגירה'!$B$16 -> #REF! | Q10: =#REF!*'[1]נתוני אגירה'!$B$16 -> #REF! | R10: =#REF!*'[1]נתוני אגירה'!$B$16 -> #REF! | ... AD10: =#REF!*'[1]נתוני אגירה'!$B$16 -> #REF!
A11: גברעם | B11: גברעם | C11: 326.50772 | D11: 1718.4617 | E11: 1 | F11: 29335792 | G11: 2945089.5 | H11: 4320387.8 | I11: =(C11*'[1]נתוני אגירה'!$B$8+'[1]נתוני אגירה'!$B$4*'נתונים מניתוח אגירה (2)'!D32+'[1]נתוני אגירה'!$B$12)*'[1]נתוני אגירה'!$B$15 -> 4449084.7 | J11: =NPV('[1]נתוני אגירה'!$B$17,'נתונים מניתוח אגירה (2)'!K32:AD32) -> #REF! | K11: =#REF!*'[1]נתוני אגירה'!$B$16 -> #REF! | L11: =#REF!*'[1]נתוני אגירה'!$B$16 -> #REF! | M11: =#REF!*'[1]נתוני אגירה'!$B$16 -> #REF! | N11: =#REF!*'[1]נתוני אגירה'!$B$16 -> #REF! | O11: =#REF!*'[1]נתוני אגירה'!$B$16 -> #REF! | P11: =#REF!*'[1]נתוני אגירה'!$B$16 -> #REF! | Q11: =#REF!*'[1]נתוני אגירה'!$B$16 -> #REF! | R11: =#REF!*'[1]נתוני אגירה'!$B$16 -> #REF! | ... AD11: =#REF!*'[1]נתוני אגירה'!$B$16 -> #REF!
A12: דקל | B12: דקל | C12: 656.26948 | D12: 3454.0499 | E12: 1 | F12: 14002048 | G12: 5237690.4 | H12: 2435606.9 | I12: =(C12*'[1]נתוני אגירה'!$B$8+'[1]נתוני אגירה'!$B$4*'נתונים מניתוח אגירה (2)'!D11+'[1]נתוני אגירה'!$B$12)*'[1]נתוני אגירה'!$B$15 -> 3913313.4 | J12: =NPV('[1]נתוני אגירה'!$B$17,'נתונים מניתוח אגירה (2)'!K11:AD11) -> #REF! | K12: =#REF!*'[1]נתוני אגירה'!$B$16 -> #REF! | L12: =#REF!*'[1]נתוני אגירה'!$B$16 -> #REF! | M12: =#REF!*'[1]נתוני אגירה'!$B$16 -> #REF! | N12: =#REF!*'[1]נתוני אגירה'!$B$16 -> #REF! | O12: =#REF!*'[1]נתוני אגירה'!$B$16 -> #REF! | P12: =#REF!*'[1]נתוני אגירה'!$B$16 -> #REF! | Q12: =#REF!*'[1]נתוני אגירה'!$B$16 -> #REF! | R12: =#REF!*'[1]נתוני אגירה'!$B$16 -> #REF! | ... AD12: =#REF!*'[1]נתוני אגירה'!$B$16 -> #REF!
A13: זיקים | B13: זיקים | C13: 1875.7972 | D13: 9872.6168 | E13: 1 | F13: 26926540 | G13: 13716207 | H13: 5449933.3 | I13: =(C13*'[1]נתוני אגירה'!$B$8+'[1]נתוני אגירה'!$B$4*'נתונים מניתוח אגירה (2)'!D31+'[1]נתוני אגירה'!$B$12)*'[1]נתוני אגירה'!$B$15 -> 19147668 | J13: =NPV('[1]נתוני אגירה'!$B$17,'נתונים מניתוח אגירה (2)'!K31:AD31) -> #REF! | K13: =#REF!*'[1]נתוני אגירה'!$B$16 -> #REF! | L13: =#REF!*'[1]נתוני אגירה'!$B$16 -> #REF! | M13: =#REF!*'[1]נתוני אגירה'!$B$16 -> #REF! | N13: =#REF!*'[1]נתוני אגירה'!$B$16 -> #REF! | O13: =#REF!*'[1]נתוני אגירה'!$B$16 -> #REF! | P13: =#REF!*'[1]נתוני אגירה'!$B$16 -> #REF! | Q13: =#REF!*'[1]נתוני אגירה'!$B$16 -> #REF! | R13: =#REF!*'[1]נתוני אגירה'!$B$16 -> #REF! | ... AD13: =#REF!*'[1]נתוני אגירה'!$B$16 -> #REF!
A14: זמרת | B14: זמרת | C14: 834.96292 | D14: 4394.5417 | E14: 1 | F14: 9932082 | G14: 6480019.9 | H14: 2456759.8 | I14: =(C14*'[1]נתוני אגירה'!$B$8+'[1]נתוני אגירה'!$B$4*'נתונים מניתוח אגירה (2)'!D35+'[1]נתוני אגירה'!$B$12)*'[1]נתוני אגירה'!$B$15 -> 12110543 | J14: =NPV('[1]נתוני אגירה'!$B$17,'נתונים מניתוח אגירה (2)'!K35:AD35) -> #REF! | K14: =#REF!*'[1]נתוני אגירה'!$B$16 -> #REF! | L14: =#REF!*'[1]נתוני אגירה'!$B$16 -> #REF! | M14: =#REF!*'[1]נתוני אגירה'!$B$16 -> #REF! | N14: =#REF!*'[1]נתוני אגירה'!$B$16 -> #REF! | O14: =#REF!*'[1]נתוני אגירה'!$B$16 -> #REF! | P14: =#REF!*'[1]נתוני אגירה'!$B$16 -> #REF! | Q14: =#REF!*'[1]נתוני אגירה'!$B$16 -> #REF! | R14: =#REF!*'[1]נתוני אגירה'!$B$16 -> #REF! | ... AD14: =#REF!*'[1]נתוני אגירה'!$B$16 -> #REF!
A15: חולית | B15: חולית | C15: 1040.1073 | D15: 5474.2489 | E15: 1 | F15: 21282418 | G15: 7906244 | H15: 4119081.1 | I15: =(C15*'[1]נתוני אגירה'!$B$8+'[1]נתוני אגירה'!$B$4*'נתונים מניתוח אגירה (2)'!#REF!+'[1]נתוני אגירה'!$B$12)*'[1]נתוני אגירה'!$B$15 -> #REF! | J15: =NPV('[1]נתוני אגירה'!$B$17,'נתונים מניתוח אגירה (2)'!#REF!) -> #REF! | K15: =#REF!*'[1]נתוני אגירה'!$B$16 -> #REF! | L15: =#REF!*'[1]נתוני אגירה'!$B$16 -> #REF! | M15: =#REF!*'[1]נתוני אגירה'!$B$16 -> #REF! | N15: =#REF!*'[1]נתוני אגירה'!$B$16 -> #REF! | O15: =#REF!*'[1]נתוני אגירה'!$B$16 -> #REF! | P15: =#REF!*'[1]נתוני אגירה'!$B$16 -> #REF! | Q15: =#REF!*'[1]נתוני אגירה'!$B$16 -> #REF! | R15: =#REF!*'[1]נתוני אגירה'!$B$16 -> #REF! | ... AD15: =#REF!*'[1]נתוני אגירה'!$B$16 -> #REF!
A16: יבול | B16: יבול | C16: 1041.7001 | D16: 5482.632 | E16: 0.70982566 | F16: 7483423.9 | G16: 7917317.5 | H16: 2266659.2 | I16: =(C16*'[1]נתוני אגירה'!$B$8+'[1]נתוני אגירה'!$B$4*'נתונים מניתוח אגירה (2)'!D8+'[1]נתוני אגירה'!$B$12)*'[1]נתוני אגירה'!$B$15 -> 6149854.1 | J16: =NPV('[1]נתוני אגירה'!$B$17,'נתונים מניתוח אגירה (2)'!K8:AD8) -> #REF! | K16: =#REF!*'[1]נתוני אגירה'!$B$16 -> #REF! | L16: =#REF!*'[1]נתוני אגירה'!$B$16 -> #REF! | M16: =#REF!*'[1]נתוני אגירה'!$B$16 -> #REF! | N16: =#REF!*'[1]נתוני אגירה'!$B$16 -> #REF! | O16: =#REF!*'[1]נתוני אגירה'!$B$16 -> #REF! | P16: =#REF!*'[1]נתוני אגירה'!$B$16 -> #REF! | Q16: =#REF!*'[1]נתוני אגירה'!$B$16 -> #REF! | R16: =#REF!*'[1]נתוני אגירה'!$B$16 -> #REF! | ... AD16: =#REF!*'[1]נתוני אגירה'!$B$16 -> #REF!
A17: יד מרדכי | B17: יד מרדכי | C17: 1373.5244 | D17: 7229.0756 | E17: 1 | F17: 50616023 | G17: 10224258 | H17: 8875668.1 | I17: =(C17*'[1]נתוני אגירה'!$B$8+'[1]נתוני אגירה'!$B$4*'נתונים מניתוח אגירה (2)'!D33+'[1]נתוני אגירה'!$B$12)*'[1]נתוני אגירה'!$B$15 -> 11239014 | J17: =NPV('[1]נתוני אגירה'!$B$17,'נתונים מניתוח אגירה (2)'!K33:AD33) -> #REF! | K17: =#REF!*'[1]נתוני אגירה'!$B$16 -> #REF! | L17: =#REF!*'[1]נתוני אגירה'!$B$16 -> #REF! | M17: =#REF!*'[1]נתוני אגירה'!$B$16 -> #REF! | N17: =#REF!*'[1]נתוני אגירה'!$B$16 -> #REF! | O17: =#REF!*'[1]נתוני אגירה'!$B$16 -> #REF! | P17: =#REF!*'[1]נתוני אגירה'!$B$16 -> #REF! | Q17: =#REF!*'[1]נתוני אגירה'!$B$16 -> #REF! | R17: =#REF!*'[1]נתוני אגירה'!$B$16 -> #REF! | ... AD17: =#REF!*'[1]נתוני אגירה'!$B$16 -> #REF!
A18: יכיני | B18: יכיני | C18: 1168.1097 | D18: 6147.946 | E18: 1 | F18: 43965762 | G18: 8796154.8 | H18: 7750968.4 | I18: =(C18*'[1]נתוני אגירה'!$B$8+'[1]נתוני אגירה'!$B$4*'נתונים מניתוח אגירה (2)'!D51+'[1]נתוני אגירה'!$B$12)*'[1]נתוני אגירה'!$B$15 -> 7114748.2 | J18: =NPV('[1]נתוני אגירה'!$B$17,'נתונים מניתוח אגירה (2)'!K51:AD51) -> #REF! | K18: =#REF!*'[1]נתוני אגירה'!$B$16 -> #REF! | L18: =#REF!*'[1]נתוני אגירה'!$B$16 -> #REF! | M18: =#REF!*'[1]נתוני אגירה'!$B$16 -> #REF! | N18: =#REF!*'[1]נתוני אגירה'!$B$16 -> #REF! | O18: =#REF!*'[1]נתוני אגירה'!$B$16 -> #REF! | P18: =#REF!*'[1]נתוני אגירה'!$B$16 -> #REF! | Q18: =#REF!*'[1]נתוני אגירה'!$B$16 -> #REF! | R18: =#REF!*'[1]נתוני אגירה'!$B$16 -> #REF! | ... AD18: =#REF!*'[1]נתוני אגירה'!$B$16 -> #REF!
A19: ישע | B19: ישע | C19: 2075.1194 | D19: 10921.681 | E19: 0.8517622 | F19: 18088718 | G19: 15101954 | H19: 5091878.5 | I19: =(C19*'[1]נתוני אגירה'!$B$8+'[1]נתוני אגירה'!$B$4*'נתונים מניתוח אגירה (2)'!D16+'[1]נתוני אגירה'!$B$12)*'[1]נתוני אגירה'!$B$15 -> 10951573 | J19: =NPV('[1]נתוני אגירה'!$B$17,'נתונים מניתוח אגירה (2)'!K16:AD16) -> #REF! | K19: =#REF!*'[1]נתוני אגירה'!$B$16 -> #REF! | L19: =#REF!*'[1]נתוני אגירה'!$B$16 -> #REF! | M19: =#REF!*'[1]נתוני אגירה'!$B$16 -> #REF! | N19: =#REF!*'[1]נתוני אגירה'!$B$16 -> #REF! | O19: =#REF!*'[1]נתוני אגירה'!$B$16 -> #REF! | P19: =#REF!*'[1]נתוני אגירה'!$B$16 -> #REF! | Q19: =#REF!*'[1]נתוני אגירה'!$B$16 -> #REF! | R19: =#REF!*'[1]נתוני אגירה'!$B$16 -> #REF! | ... AD19: =#REF!*'[1]נתוני אגירה'!$B$16 -> #REF!
A20: יתד | B20: יתד | C20: 1105.5013 | D20: 5818.428 | E20: 1 | F20: 12329281 | G20: 8360882.7 | H20: 2820476.3 | I20: =(C20*'[1]נתוני אגירה'!$B$8+'[1]נתוני אגירה'!$B$4*'נתונים מניתוח אגירה (2)'!D13+'[1]נתוני אגירה'!$B$12)*'[1]נתוני אגירה'!$B$15 -> 11454517 | J20: =NPV('[1]נתוני אגירה'!$B$17,'נתונים מניתוח אגירה (2)'!K13:AD13) -> #REF! | K20: =#REF!*'[1]נתוני אגירה'!$B$16 -> #REF! | L20: =#REF!*'[1]נתוני אגירה'!$B$16 -> #REF! | M20: =#REF!*'[1]נתוני אגירה'!$B$16 -> #REF! | N20: =#REF!*'[1]נתוני אגירה'!$B$16 -> #REF! | O20: =#REF!*'[1]נתוני אגירה'!$B$16 -> #REF! | P20: =#REF!*'[1]נתוני אגירה'!$B$16 -> #REF! | Q20: =#REF!*'[1]נתוני אגירה'!$B$16 -> #REF! | R20: =#REF!*'[1]נתוני אגירה'!$B$16 -> #REF! | ... AD20: =#REF!*'[1]נתוני אגירה'!$B$16 -> #REF!
A21: כיסופים | B21: כיסופים | C21: 369.12253 | D21: 1942.7501 | E21: 1 | F21: 24843077 | G21: 3241360.2 | H21: 3518341.9 | I21: =(C21*'[1]נתוני אגירה'!$B$8+'[1]נתוני אגירה'!$B$4*'נתונים מניתוח אגירה (2)'!D18+'[1]נתוני אגירה'!$B$12)*'[1]נתוני אגירה'!$B$15 -> 6450223.2 | J21: =NPV('[1]נתוני אגירה'!$B$17,'נתונים מניתוח אגירה (2)'!K18:AD18) -> #REF! | K21: =#REF!*'[1]נתוני אגירה'!$B$16 -> #REF! | L21: =#REF!*'[1]נתוני אגירה'!$B$16 -> #REF! | M21: =#REF!*'[1]נתוני אגירה'!$B$16 -> #REF! | N21: =#REF!*'[1]נתוני אגירה'!$B$16 -> #REF! | O21: =#REF!*'[1]נתוני אגירה'!$B$16 -> #REF! | P21: =#REF!*'[1]נתוני אגירה'!$B$16 -> #REF! | Q21: =#REF!*'[1]נתוני אגירה'!$B$16 -> #REF! | R21: =#REF!*'[1]נתוני אגירה'!$B$16 -> #REF! | ... AD21: =#REF!*'[1]נתוני אגירה'!$B$16 -> #REF!
A22: כפר מימון | B22: כפר מימון | C22: 1113.5799 | D22: 5860.947 | E22: 1 | F22: 12508338 | G22: 8417047.5 | H22: 2862414.4 | I22: =(C22*'[1]נתוני אגירה'!$B$8+'[1]נתוני אגירה'!$B$4*'נתונים מניתוח אגירה (2)'!D36+'[1]נתוני אגירה'!$B$12)*'[1]נתוני אגירה'!$B$15 -> 2.2694161e+08 | J22: =NPV('[1]נתוני אגירה'!$B$17,'נתונים מניתוח אגירה (2)'!K36:AD36) -> #REF! | K22: =#REF!*'[1]נתוני אגירה'!$B$16 -> #REF! | L22: =#REF!*'[1]נתוני אגירה'!$B$16 -> #REF! | M22: =#REF!*'[1]נתוני אגירה'!$B$16 -> #REF! | N22: =#REF!*'[1]נתוני אגירה'!$B$16 -> #REF! | O22: =#REF!*'[1]נתוני אגירה'!$B$16 -> #REF! | P22: =#REF!*'[1]נתוני אגירה'!$B$16 -> #REF! | Q22: =#REF!*'[1]נתוני אגירה'!$B$16 -> #REF! | R22: =#REF!*'[1]נתוני אגירה'!$B$16 -> #REF! | ... AD22: =#REF!*'[1]נתוני אגירה'!$B$16 -> #REF!
A23: כפר עזה | B23: כפר עזה | C23: 889.43667 | D23: 4681.2456 | E23: 1 | F23: 50700238 | G23: 6858737.5 | H23: 6304938.1 | I23: =(C23*'[1]נתוני אגירה'!$B$8+'[1]נתוני אגירה'!$B$4*'נתונים מניתוח אגירה (2)'!D50+'[1]נתוני אגירה'!$B$12)*'[1]נתוני אגירה'!$B$15 -> 6232046.1 | J23: =NPV('[1]נתוני אגירה'!$B$17,'נתונים מניתוח אגירה (2)'!K50:AD50) -> #REF! | K23: =#REF!*'[1]נתוני אגירה'!$B$16 -> #REF! | L23: =#REF!*'[1]נתוני אגירה'!$B$16 -> #REF! | M23: =#REF!*'[1]נתוני אגירה'!$B$16 -> #REF! | N23: =#REF!*'[1]נתוני אגירה'!$B$16 -> #REF! | O23: =#REF!*'[1]נתוני אגירה'!$B$16 -> #REF! | P23: =#REF!*'[1]נתוני אגירה'!$B$16 -> #REF! | Q23: =#REF!*'[1]נתוני אגירה'!$B$16 -> #REF! | R23: =#REF!*'[1]נתוני אגירה'!$B$16 -> #REF! | ... AD23: =#REF!*'[1]נתוני אגירה'!$B$16 -> #REF!
A24: כרם שלום | B24: כרם שלום | C24: 293.01863 | D24: 1542.2033 | E24: 1 | F24: 14551666 | G24: 2712263.4 | H24: 1836162 | I24: =(C24*'[1]נתוני אגירה'!$B$8+'[1]נתוני אגירה'!$B$4*'נתונים מניתוח אגירה (2)'!D14+'[1]נתוני אגירה'!$B$12)*'[1]נתוני אגירה'!$B$15 -> 4888800.2 | J24: =NPV('[1]נתוני אגירה'!$B$17,'נתונים מניתוח אגירה (2)'!K14:AD14) -> #REF! | K24: =#REF!*'[1]נתוני אגירה'!$B$16 -> #REF! | L24: =#REF!*'[1]נתוני אגירה'!$B$16 -> #REF! | M24: =#REF!*'[1]נתוני אגירה'!$B$16 -> #REF! | N24: =#REF!*'[1]נתוני אגירה'!$B$16 -> #REF! | O24: =#REF!*'[1]נתוני אגירה'!$B$16 -> #REF! | P24: =#REF!*'[1]נתוני אגירה'!$B$16 -> #REF! | Q24: =#REF!*'[1]נתוני אגירה'!$B$16 -> #REF! | R24: =#REF!*'[1]נתוני אגירה'!$B$16 -> #REF! | ... AD24: =#REF!*'[1]נתוני אגירה'!$B$16 -> #REF!
A25: כרמיה | B25: כרמייה | C25: 433.37368 | D25: 2280.9141 | E25: 1 | F25: 22253442 | G25: 3688053.1 | H25: 3672207.3 | I25: =(C25*'[1]נתוני אגירה'!$B$8+'[1]נתוני אגירה'!$B$4*'נתונים מניתוח אגירה (2)'!D30+'[1]נתוני אגירה'!$B$12)*'[1]נתוני אגירה'!$B$15 -> 5164193.8 | J25: =NPV('[1]נתוני אגירה'!$B$17,'נתונים מניתוח אגירה (2)'!K30:AD30) -> #REF! | K25: =#REF!*'[1]נתוני אגירה'!$B$16 -> #REF! | L25: =#REF!*'[1]נתוני אגירה'!$B$16 -> #REF! | M25: =#REF!*'[1]נתוני אגירה'!$B$16 -> #REF! | N25: =#REF!*'[1]נתוני אגירה'!$B$16 -> #REF! | O25: =#REF!*'[1]נתוני אגירה'!$B$16 -> #REF! | P25: =#REF!*'[1]נתוני אגירה'!$B$16 -> #REF! | Q25: =#REF!*'[1]נתוני אגירה'!$B$16 -> #REF! | R25: =#REF!*'[1]נתוני אגירה'!$B$16 -> #REF! | ... AD25: =#REF!*'[1]נתוני אגירה'!$B$16 -> #REF!
A26: מבטחים | B26: מבטחים | C26: 2649.8264 | D26: 13946.455 | E26: 1 | F26: 29233423 | G26: 19097486 | H26: 5936406.9 | I26: =(C26*'[1]נתוני אגירה'!$B$8+'[1]נתוני אגירה'!$B$4*'נתונים מניתוח אגירה (2)'!D17+'[1]נתוני אגירה'!$B$12)*'[1]נתוני אגירה'!$B$15 -> 13971648 | J26: =NPV('[1]נתוני אגירה'!$B$17,'נתונים מניתוח אגירה (2)'!K17:AD17) -> #REF! | K26: =#REF!*'[1]נתוני אגירה'!$B$16 -> #REF! | L26: =#REF!*'[1]נתוני אגירה'!$B$16 -> #REF! | M26: =#REF!*'[1]נתוני אגירה'!$B$16 -> #REF! | N26: =#REF!*'[1]נתוני אגירה'!$B$16 -> #REF! | O26: =#REF!*'[1]נתוני אגירה'!$B$16 -> #REF! | P26: =#REF!*'[1]נתוני אגירה'!$B$16 -> #REF! | Q26: =#REF!*'[1]נתוני אגירה'!$B$16 -> #REF! | R26: =#REF!*'[1]נתוני אגירה'!$B$16 -> #REF! | ... AD26: =#REF!*'[1]נתוני אגירה'!$B$16 -> #REF!
A27: מבקיעים | B27: מבקיעים | C27: 2268.9769 | D27: 11941.984 | E27: 0.53414924 | F27: 18021130 | G27: 16449708 | H27: 5171789.1 | I27: =(C27*'[1]נתוני אגירה'!$B$8+'[1]נתוני אגירה'!$B$4*'נתונים מניתוח אגירה (2)'!D29+'[1]נתוני אגירה'!$B$12)*'[1]נתוני אגירה'!$B$15 -> 11493425 | J27: =NPV('[1]נתוני אגירה'!$B$17,'נתונים מניתוח אגירה (2)'!K29:AD29) -> #REF! | K27: =#REF!*'[1]נתוני אגירה'!$B$16 -> #REF! | L27: =#REF!*'[1]נתוני אגירה'!$B$16 -> #REF! | M27: =#REF!*'[1]נתוני אגירה'!$B$16 -> #REF! | N27: =#REF!*'[1]נתוני אגירה'!$B$16 -> #REF! | O27: =#REF!*'[1]נתוני אגירה'!$B$16 -> #REF! | P27: =#REF!*'[1]נתוני אגירה'!$B$16 -> #REF! | Q27: =#REF!*'[1]נתוני אגירה'!$B$16 -> #REF! | R27: =#REF!*'[1]נתוני אגירה'!$B$16 -> #REF! | ... AD27: =#REF!*'[1]נתוני אגירה'!$B$16 -> #REF!
A28: מגן | B28: מגן | C28: 4535.3504 | D28: 23870.265 | E28: 1 | F28: 1.0045421e+08 | G28: 32206205 | H28: 18692460 | I28: =(C28*'[1]נתוני אגירה'!$B$8+'[1]נתוני אגירה'!$B$4*'נתונים מניתוח אגירה (2)'!D27+'[1]נתוני אגירה'!$B$12)*'[1]נתוני אגירה'!$B$15 -> 23104079 | J28: =NPV('[1]נתוני אגירה'!$B$17,'נתונים מניתוח אגירה (2)'!K27:AD27) -> #REF! | K28: =#REF!*'[1]נתוני אגירה'!$B$16 -> #REF! | L28: =#REF!*'[1]נתוני אגירה'!$B$16 -> #REF! | M28: =#REF!*'[1]נתוני אגירה'!$B$16 -> #REF! | N28: =#REF!*'[1]נתוני אגירה'!$B$16 -> #REF! | O28: =#REF!*'[1]נתוני אגירה'!$B$16 -> #REF! | P28: =#REF!*'[1]נתוני אגירה'!$B$16 -> #REF! | Q28: =#REF!*'[1]נתוני אגירה'!$B$16 -> #REF! | R28: =#REF!*'[1]נתוני אגירה'!$B$16 -> #REF! | ... AD28: =#REF!*'[1]נתוני אגירה'!$B$16 -> #REF!
A29: מפלסים | B29: מפלסים | C29: 1034.8929 | D29: 5446.8047 | E29: 1 | F29: 35731083 | G29: 7869992 | H29: 5946083.2 | I29: =(C29*'[1]נתוני אגירה'!$B$8+'[1]נתוני אגירה'!$B$4*'נתונים מניתוח אגירה (2)'!D49+'[1]נתוני אגירה'!$B$12)*'[1]נתוני אגירה'!$B$15 -> 8978639.5 | J29: =NPV('[1]נתוני אגירה'!$B$17,'נתונים מניתוח אגירה (2)'!K49:AD49) -> #REF! | K29: =#REF!*'[1]נתוני אגירה'!$B$16 -> #REF! | L29: =#REF!*'[1]נתוני אגירה'!$B$16 -> #REF! | M29: =#REF!*'[1]נתוני אגירה'!$B$16 -> #REF! | N29: =#REF!*'[1]נתוני אגירה'!$B$16 -> #REF! | O29: =#REF!*'[1]נתוני אגירה'!$B$16 -> #REF! | P29: =#REF!*'[1]נתוני אגירה'!$B$16 -> #REF! | Q29: =#REF!*'[1]נתוני אגירה'!$B$16 -> #REF! | R29: =#REF!*'[1]נתוני אגירה'!$B$16 -> #REF! | ... AD29: =#REF!*'[1]נתוני אגירה'!$B$16 -> #REF!
A30: נחל עוז | B30: נחל עוז | C30: 800.92365 | D30: 4215.3877 | E30: 1 | F30: 34169373 | G30: 6243368.9 | H30: 4433628.3 | I30: =(C30*'[1]נתוני אגירה'!$B$8+'[1]נתוני אגירה'!$B$4*'נתונים מניתוח אגירה (2)'!D47+'[1]נתוני אגירה'!$B$12)*'[1]נתוני אגירה'!$B$15 -> 7295299.6 | J30: =NPV('[1]נתוני אגירה'!$B$17,'נתונים מניתוח אגירה (2)'!K47:AD47) -> #REF! | K30: =#REF!*'[1]נתוני אגירה'!$B$16 -> #REF! | L30: =#REF!*'[1]נתוני אגירה'!$B$16 -> #REF! | M30: =#REF!*'[1]נתוני אגירה'!$B$16 -> #REF! | N30: =#REF!*'[1]נתוני אגירה'!$B$16 -> #REF! | O30: =#REF!*'[1]נתוני אגירה'!$B$16 -> #REF! | P30: =#REF!*'[1]נתוני אגירה'!$B$16 -> #REF! | Q30: =#REF!*'[1]נתוני אגירה'!$B$16 -> #REF! | R30: =#REF!*'[1]נתוני אגירה'!$B$16 -> #REF! | ... AD30: =#REF!*'[1]נתוני אגירה'!$B$16 -> #REF!
A31: ניר יצחק | B31: ניר יצחק | C31: 3228.1977 | D31: 16990.514 | E31: 1 | F31: 35768640 | G31: 23118494 | H31: 8975951.5 | I31: =(C31*'[1]נתוני אגירה'!$B$8+'[1]נתוני אגירה'!$B$4*'נתונים מניתוח אגירה (2)'!D23+'[1]נתוני אגירה'!$B$12)*'[1]נתוני אגירה'!$B$15 -> 13725648 | J31: =NPV('[1]נתוני אגירה'!$B$17,'נתונים מניתוח אגירה (2)'!K23:AD23) -> #REF! | K31: =#REF!*'[1]נתוני אגירה'!$B$16 -> #REF! | L31: =#REF!*'[1]נתוני אגירה'!$B$16 -> #REF! | M31: =#REF!*'[1]נתוני אגירה'!$B$16 -> #REF! | N31: =#REF!*'[1]נתוני אגירה'!$B$16 -> #REF! | O31: =#REF!*'[1]נתוני אגירה'!$B$16 -> #REF! | P31: =#REF!*'[1]נתוני אגירה'!$B$16 -> #REF! | Q31: =#REF!*'[1]נתוני אגירה'!$B$16 -> #REF! | R31: =#REF!*'[1]נתוני אגירה'!$B$16 -> #REF! | ... AD31: =#REF!*'[1]נתוני אגירה'!$B$16 -> #REF!
A32: ניר עוז | B32: ניר עוז | C32: 700.9933 | D32: 3689.4384 | E32: 1 | F32: 60424571 | G32: 5548623.6 | H32: 7871612.5 | I32: =(C32*'[1]נתוני אגירה'!$B$8+'[1]נתוני אגירה'!$B$4*'נתונים מניתוח אגירה (2)'!D26+'[1]נתוני אגירה'!$B$12)*'[1]נתוני אגירה'!$B$15 -> 13375455 | J32: =NPV('[1]נתוני אגירה'!$B$17,'נתונים מניתוח אגירה (2)'!K26:AD26) -> #REF! | K32: =#REF!*'[1]נתוני אגירה'!$B$16 -> #REF! | L32: =#REF!*'[1]נתוני אגירה'!$B$16 -> #REF! | M32: =#REF!*'[1]נתוני אגירה'!$B$16 -> #REF! | N32: =#REF!*'[1]נתוני אגירה'!$B$16 -> #REF! | O32: =#REF!*'[1]נתוני אגירה'!$B$16 -> #REF! | P32: =#REF!*'[1]נתוני אגירה'!$B$16 -> #REF! | Q32: =#REF!*'[1]נתוני אגירה'!$B$16 -> #REF! | R32: =#REF!*'[1]נתוני אגירה'!$B$16 -> #REF! | ... AD32: =#REF!*'[1]נתוני אגירה'!$B$16 -> #REF!
A33: ניר עם | B33: ניר עם | C33: 1626.1925 | D33: 8558.908 | E33: 1 | F33: 1.1490216e+08 | G33: 11980881 | H33: 15971222 | I33: =(C33*'[1]נתוני אגירה'!$B$8+'[1]נתוני אגירה'!$B$4*'נתונים מניתוח אגירה (2)'!D52+'[1]נתוני אגירה'!$B$12)*'[1]נתוני אגירה'!$B$15 -> 8280604.3 | J33: =NPV('[1]נתוני אגירה'!$B$17,'נתונים מניתוח אגירה (2)'!K52:AD52) -> #REF! | K33: =#REF!*'[1]נתוני אגירה'!$B$16 -> #REF! | L33: =#REF!*'[1]נתוני אגירה'!$B$16 -> #REF! | M33: =#REF!*'[1]נתוני אגירה'!$B$16 -> #REF! | N33: =#REF!*'[1]נתוני אגירה'!$B$16 -> #REF! | O33: =#REF!*'[1]נתוני אגירה'!$B$16 -> #REF! | P33: =#REF!*'[1]נתוני אגירה'!$B$16 -> #REF! | Q33: =#REF!*'[1]נתוני אגירה'!$B$16 -> #REF! | R33: =#REF!*'[1]נתוני אגירה'!$B$16 -> #REF! | ... AD33: =#REF!*'[1]נתוני אגירה'!$B$16 -> #REF!
A34: נירים | B34: נירים | C34: 96.222419 | D34: 506.43378 | E34: 1 | F34: 32500006 | G34: 1344078.2 | H34: 4360164 | I34: =(C34*'[1]נתוני אגירה'!$B$8+'[1]נתוני אגירה'!$B$4*'נתונים מניתוח אגירה (2)'!D21+'[1]נתוני אגירה'!$B$12)*'[1]נתוני אגירה'!$B$15 -> 2440089.6 | J34: =NPV('[1]נתוני אגירה'!$B$17,'נתונים מניתוח אגירה (2)'!K21:AD21) -> #REF! | K34: =#REF!*'[1]נתוני אגירה'!$B$16 -> #REF! | L34: =#REF!*'[1]נתוני אגירה'!$B$16 -> #REF! | M34: =#REF!*'[1]נתוני אגירה'!$B$16 -> #REF! | N34: =#REF!*'[1]נתוני אגירה'!$B$16 -> #REF! | O34: =#REF!*'[1]נתוני אגירה'!$B$16 -> #REF! | P34: =#REF!*'[1]נתוני אגירה'!$B$16 -> #REF! | Q34: =#REF!*'[1]נתוני אגירה'!$B$16 -> #REF! | R34: =#REF!*'[1]נתוני אגירה'!$B$16 -> #REF! | ... AD34: =#REF!*'[1]נתוני אגירה'!$B$16 -> #REF!
A35: נתיב העשרה | B35: נתיב העשרה | C35: 2236.9287 | D35: 11773.309 | E35: 0.62516186 | F35: 22268403 | G35: 16226899 | H35: 4947215 | I35: =(C35*'[1]נתוני אגירה'!$B$8+'[1]נתוני אגירה'!$B$4*'נתונים מניתוח אגירה (2)'!D28+'[1]נתוני אגירה'!$B$12)*'[1]נתוני אגירה'!$B$15 -> 25457736 | J35: =NPV('[1]נתוני אגירה'!$B$17,'נתונים מניתוח אגירה (2)'!K28:AD28) -> #REF! | K35: =#REF!*'[1]נתוני אגירה'!$B$16 -> #REF! | L35: =#REF!*'[1]נתוני אגירה'!$B$16 -> #REF! | M35: =#REF!*'[1]נתוני אגירה'!$B$16 -> #REF! | N35: =#REF!*'[1]נתוני אגירה'!$B$16 -> #REF! | O35: =#REF!*'[1]נתוני אגירה'!$B$16 -> #REF! | P35: =#REF!*'[1]נתוני אגירה'!$B$16 -> #REF! | Q35: =#REF!*'[1]נתוני אגירה'!$B$16 -> #REF! | R35: =#REF!*'[1]נתוני אגירה'!$B$16 -> #REF! | ... AD35: =#REF!*'[1]נתוני אגירה'!$B$16 -> #REF!
A36: נתיבות | B36: נתיבות | C36: 55524.857 | D36: 292236.09 | E36: 1 | F36: 5.9984636e+08 | G36: 3.8670028e+08 | H36: 1.4478513e+08 | I36: =(C36*'[1]נתוני אגירה'!$B$8+'[1]נתוני אגירה'!$B$4*'נתונים מניתוח אגירה (2)'!D34+'[1]נתוני אגירה'!$B$12)*'[1]נתוני אגירה'!$B$15 -> 1.6408984e+08 | J36: =NPV('[1]נתוני אגירה'!$B$17,'נתונים מניתוח אגירה (2)'!K34:AD34) -> #REF! | K36: =#REF!*'[1]נתוני אגירה'!$B$16 -> #REF! | L36: =#REF!*'[1]נתוני אגירה'!$B$16 -> #REF! | M36: =#REF!*'[1]נתוני אגירה'!$B$16 -> #REF! | N36: =#REF!*'[1]נתוני אגירה'!$B$16 -> #REF! | O36: =#REF!*'[1]נתוני אגירה'!$B$16 -> #REF! | P36: =#REF!*'[1]נתוני אגירה'!$B$16 -> #REF! | Q36: =#REF!*'[1]נתוני אגירה'!$B$16 -> #REF! | R36: =#REF!*'[1]נתוני אגירה'!$B$16 -> #REF! | ... AD36: =#REF!*'[1]נתוני אגירה'!$B$16 -> #REF!
A37: סופה | B37: סופה | C37: 116.34124 | D37: 612.32233 | E37: 1 | F37: 13973914 | G37: 1483950.2 | H37: 1720097.7 | I37: =(C37*'[1]נתוני אגירה'!$B$8+'[1]נתוני אגירה'!$B$4*'נתונים מניתוח אגירה (2)'!D12+'[1]נתוני אגירה'!$B$12)*'[1]נתוני אגירה'!$B$15 -> 3652390.1 | J37: =NPV('[1]נתוני אגירה'!$B$17,'נתונים מניתוח אגירה (2)'!K12:AD12) -> #REF! | K37: =#REF!*'[1]נתוני אגירה'!$B$16 -> #REF! | L37: =#REF!*'[1]נתוני אגירה'!$B$16 -> #REF! | M37: =#REF!*'[1]נתוני אגירה'!$B$16 -> #REF! | N37: =#REF!*'[1]נתוני אגירה'!$B$16 -> #REF! | O37: =#REF!*'[1]נתוני אגירה'!$B$16 -> #REF! | P37: =#REF!*'[1]נתוני אגירה'!$B$16 -> #REF! | Q37: =#REF!*'[1]נתוני אגירה'!$B$16 -> #REF! | R37: =#REF!*'[1]נתוני אגירה'!$B$16 -> #REF! | ... AD37: =#REF!*'[1]נתוני אגירה'!$B$16 -> #REF!
A38: סעד | B38: סעד | C38: 1664.5183 | D38: 8760.6225 | E38: 1 | F38: 46711094 | G38: 12247333 | H38: 7961677.3 | I38: =(C38*'[1]נתוני אגירה'!$B$8+'[1]נתוני אגירה'!$B$4*'נתונים מניתוח אגירה (2)'!D42+'[1]נתוני אגירה'!$B$12)*'[1]נתוני אגירה'!$B$15 -> 14786623 | J38: =NPV('[1]נתוני אגירה'!$B$17,'נתונים מניתוח אגירה (2)'!K42:AD42) -> #REF! | K38: =#REF!*'[1]נתוני אגירה'!$B$16 -> #REF! | L38: =#REF!*'[1]נתוני אגירה'!$B$16 -> #REF! | M38: =#REF!*'[1]נתוני אגירה'!$B$16 -> #REF! | N38: =#REF!*'[1]נתוני אגירה'!$B$16 -> #REF! | O38: =#REF!*'[1]נתוני אגירה'!$B$16 -> #REF! | P38: =#REF!*'[1]נתוני אגירה'!$B$16 -> #REF! | Q38: =#REF!*'[1]נתוני אגירה'!$B$16 -> #REF! | R38: =#REF!*'[1]נתוני אגירה'!$B$16 -> #REF! | ... AD38: =#REF!*'[1]נתוני אגירה'!$B$16 -> #REF!
A39: עין הבשור | B39: עין הבשור | C39: 2723.575 | D39: 14334.605 | E39: 1 | F39: 37413921 | G39: 19610208 | H39: 7604294.3 | I39: =(C39*'[1]נתוני אגירה'!$B$8+'[1]נתוני אגירה'!$B$4*'נתונים מניתוח אגירה (2)'!D20+'[1]נתוני אגירה'!$B$12)*'[1]נתוני אגירה'!$B$15 -> 13111760 | J39: =NPV('[1]נתוני אגירה'!$B$17,'נתונים מניתוח אגירה (2)'!K20:AD20) -> #REF! | K39: =#REF!*'[1]נתוני אגירה'!$B$16 -> #REF! | L39: =#REF!*'[1]נתוני אגירה'!$B$16 -> #REF! | M39: =#REF!*'[1]נתוני אגירה'!$B$16 -> #REF! | N39: =#REF!*'[1]נתוני אגירה'!$B$16 -> #REF! | O39: =#REF!*'[1]נתוני אגירה'!$B$16 -> #REF! | P39: =#REF!*'[1]נתוני אגירה'!$B$16 -> #REF! | Q39: =#REF!*'[1]נתוני אגירה'!$B$16 -> #REF! | R39: =#REF!*'[1]נתוני אגירה'!$B$16 -> #REF! | ... AD39: =#REF!*'[1]נתוני אגירה'!$B$16 -> #REF!
A40: עין השלושה | B40: עין השלושה | C40: 259.85232 | D40: 1367.6438 | E40: 1 | F40: 37078194 | G40: 2481681.5 | H40: 5236970.7 | I40: =(C40*'[1]נתוני אגירה'!$B$8+'[1]נתוני אגירה'!$B$4*'נתונים מניתוח אגירה (2)'!D24+'[1]נתוני אגירה'!$B$12)*'[1]נתוני אגירה'!$B$15 -> 2614882.8 | J40: =NPV('[1]נתוני אגירה'!$B$17,'נתונים מניתוח אגירה (2)'!K24:AD24) -> #REF! | K40: =#REF!*'[1]נתוני אגירה'!$B$16 -> #REF! | L40: =#REF!*'[1]נתוני אגירה'!$B$16 -> #REF! | M40: =#REF!*'[1]נתוני אגירה'!$B$16 -> #REF! | N40: =#REF!*'[1]נתוני אגירה'!$B$16 -> #REF! | O40: =#REF!*'[1]נתוני אגירה'!$B$16 -> #REF! | P40: =#REF!*'[1]נתוני אגירה'!$B$16 -> #REF! | Q40: =#REF!*'[1]נתוני אגירה'!$B$16 -> #REF! | R40: =#REF!*'[1]נתוני אגירה'!$B$16 -> #REF! | ... AD40: =#REF!*'[1]נתוני אגירה'!$B$16 -> #REF!
A41: עלומים | B41: עלומים | C41: 117.76311 | D41: 619.80582 | E41: 1 | F41: 33815622 | G41: 1493835.4 | H41: 5150947.3 | I41: =(C41*'[1]נתוני אגירה'!$B$8+'[1]נתוני אגירה'!$B$4*'נתונים מניתוח אגירה (2)'!D41+'[1]נתוני אגירה'!$B$12)*'[1]נתוני אגירה'!$B$15 -> 1493835.4 | J41: =NPV('[1]נתוני אגירה'!$B$17,'נתונים מניתוח אגירה (2)'!K41:AD41) -> #REF! | K41: =#REF!*'[1]נתוני אגירה'!$B$16 -> #REF! | L41: =#REF!*'[1]נתוני אגירה'!$B$16 -> #REF! | M41: =#REF!*'[1]נתוני אגירה'!$B$16 -> #REF! | N41: =#REF!*'[1]נתוני אגירה'!$B$16 -> #REF! | O41: =#REF!*'[1]נתוני אגירה'!$B$16 -> #REF! | P41: =#REF!*'[1]נתוני אגירה'!$B$16 -> #REF! | Q41: =#REF!*'[1]נתוני אגירה'!$B$16 -> #REF! | R41: =#REF!*'[1]נתוני אגירה'!$B$16 -> #REF! | ... AD41: =#REF!*'[1]נתוני אגירה'!$B$16 -> #REF!
A42: עמיעוז | B42: עמיעוז | C42: 2296.7858 | D42: 12088.346 | E42: 1 | F42: 33965364 | G42: 16643043 | H42: 7765643.4 | I42: =(C42*'[1]נתוני אגירה'!$B$8+'[1]נתוני אגירה'!$B$4*'נתונים מניתוח אגירה (2)'!D25+'[1]נתוני אגירה'!$B$12)*'[1]נתוני אגירה'!$B$15 -> 9159276.2 | J42: =NPV('[1]נתוני אגירה'!$B$17,'נתונים מניתוח אגירה (2)'!K25:AD25) -> #REF! | K42: =#REF!*'[1]נתוני אגירה'!$B$16 -> #REF! | L42: =#REF!*'[1]נתוני אגירה'!$B$16 -> #REF! | M42: =#REF!*'[1]נתוני אגירה'!$B$16 -> #REF! | N42: =#REF!*'[1]נתוני אגירה'!$B$16 -> #REF! | O42: =#REF!*'[1]נתוני אגירה'!$B$16 -> #REF! | P42: =#REF!*'[1]נתוני אגירה'!$B$16 -> #REF! | Q42: =#REF!*'[1]נתוני אגירה'!$B$16 -> #REF! | R42: =#REF!*'[1]נתוני אגירה'!$B$16 -> #REF! | ... AD42: =#REF!*'[1]נתוני אגירה'!$B$16 -> #REF!
A43: פריגן | B43: פרי גן | C43: 581.05353 | D43: 3058.1765 | E43: 1 | F43: 5753067.4 | G43: 4714767 | H43: 1551758.5 | I43: =(C43*'[1]נתוני אגירה'!$B$8+'[1]נתוני אגירה'!$B$4*'נתונים מניתוח אגירה (2)'!D6+'[1]נתוני אגירה'!$B$12)*'[1]נתוני אגירה'!$B$15 -> 3673937.8 | J43: =NPV('[1]נתוני אגירה'!$B$17,'נתונים מניתוח אגירה (2)'!K6:AD6) -> #REF! | K43: =#REF!*'[1]נתוני אגירה'!$B$16 -> #REF! | L43: =#REF!*'[1]נתוני אגירה'!$B$16 -> #REF! | M43: =#REF!*'[1]נתוני אגירה'!$B$16 -> #REF! | N43: =#REF!*'[1]נתוני אגירה'!$B$16 -> #REF! | O43: =#REF!*'[1]נתוני אגירה'!$B$16 -> #REF! | P43: =#REF!*'[1]נתוני אגירה'!$B$16 -> #REF! | Q43: =#REF!*'[1]נתוני אגירה'!$B$16 -> #REF! | R43: =#REF!*'[1]נתוני אגירה'!$B$16 -> #REF! | ... AD43: =#REF!*'[1]נתוני אגירה'!$B$16 -> #REF!
A44: צוחר | B44: צוחר | C44: 509.94848 | D44: 2683.9393 | E44: 0.40465573 | F44: 3669750.7 | G44: 4220423.7 | H44: 1238135.7 | I44: =(C44*'[1]נתוני אגירה'!$B$8+'[1]נתוני אגירה'!$B$4*'נתונים מניתוח אגירה (2)'!D3+'[1]נתוני אגירה'!$B$12)*'[1]נתוני אגירה'!$B$15 -> 4234823.9 | J44: =NPV('[1]נתוני אגירה'!$B$17,'נתונים מניתוח אגירה (2)'!K3:AD3) -> #REF! | K44: =#REF!*'[1]נתוני אגירה'!$B$16 -> #REF! | L44: =#REF!*'[1]נתוני אגירה'!$B$16 -> #REF! | M44: =#REF!*'[1]נתוני אגירה'!$B$16 -> #REF! | N44: =#REF!*'[1]נתוני אגירה'!$B$16 -> #REF! | O44: =#REF!*'[1]נתוני אגירה'!$B$16 -> #REF! | P44: =#REF!*'[1]נתוני אגירה'!$B$16 -> #REF! | Q44: =#REF!*'[1]נתוני אגירה'!$B$16 -> #REF! | R44: =#REF!*'[1]נתוני אגירה'!$B$16 -> #REF! | ... AD44: =#REF!*'[1]נתוני אגירה'!$B$16 -> #REF!
A45: רעים | B45: רעים | C45: 972.8934 | D45: 5120.4916 | E45: 1 | F45: 24937491 | G45: 7438953.2 | H45: 4587441.7 | I45: =(C45*'[1]נתוני אגירה'!$B$8+'[1]נתוני אגירה'!$B$4*'נתונים מניתוח אגירה (2)'!D19+'[1]נתוני אגירה'!$B$12)*'[1]נתוני אגירה'!$B$15 -> 11865673 | J45: =NPV('[1]נתוני אגירה'!$B$17,'נתונים מניתוח אגירה (2)'!K19:AD19) -> #REF! | K45: =#REF!*'[1]נתוני אגירה'!$B$16 -> #REF! | L45: =#REF!*'[1]נתוני אגירה'!$B$16 -> #REF! | M45: =#REF!*'[1]נתוני אגירה'!$B$16 -> #REF! | N45: =#REF!*'[1]נתוני אגירה'!$B$16 -> #REF! | O45: =#REF!*'[1]נתוני אגירה'!$B$16 -> #REF! | P45: =#REF!*'[1]נתוני אגירה'!$B$16 -> #REF! | Q45: =#REF!*'[1]נתוני אגירה'!$B$16 -> #REF! | R45: =#REF!*'[1]נתוני אגירה'!$B$16 -> #REF! | ... AD45: =#REF!*'[1]נתוני אגירה'!$B$16 -> #REF!
A46: שדה ניצן | B46: שדה ניצן | C46: 946.80936 | D46: 4983.2072 | E46: 1 | F46: 11143987 | G46: 7257609.4 | H46: 2469729.9 | I46: =(C46*'[1]נתוני אגירה'!$B$8+'[1]נתוני אגירה'!$B$4*'נתונים מניתוח אגירה (2)'!D10+'[1]נתוני אגירה'!$B$12)*'[1]נתוני אגירה'!$B$15 -> 10812308 | J46: =NPV('[1]נתוני אגירה'!$B$17,'נתונים מניתוח אגירה (2)'!K10:AD10) -> #REF! | K46: =#REF!*'[1]נתוני אגירה'!$B$16 -> #REF! | L46: =#REF!*'[1]נתוני אגירה'!$B$16 -> #REF! | M46: =#REF!*'[1]נתוני אגירה'!$B$16 -> #REF! | N46: =#REF!*'[1]נתוני אגירה'!$B$16 -> #REF! | O46: =#REF!*'[1]נתוני אגירה'!$B$16 -> #REF! | P46: =#REF!*'[1]נתוני אגירה'!$B$16 -> #REF! | Q46: =#REF!*'[1]נתוני אגירה'!$B$16 -> #REF! | R46: =#REF!*'[1]נתוני אגירה'!$B$16 -> #REF! | ... AD46: =#REF!*'[1]נתוני אגירה'!$B$16 -> #REF!
A47: שדי אברהם | B47: שדי אברהם | C47: 1062.8479 | D47: 5593.9365 | E47: 1 | F47: 14392127 | G47: 8064343.8 | H47: 2911276.4 | I47: =(C47*'[1]נתוני אגירה'!$B$8+'[1]נתוני אגירה'!$B$4*'נתונים מניתוח אגירה (2)'!D15+'[1]נתוני אגירה'!$B$12)*'[1]נתוני אגירה'!$B$15 -> 7973013.6 | J47: =NPV('[1]נתוני אגירה'!$B$17,'נתונים מניתוח אגירה (2)'!K15:AD15) -> #REF! | K47: =#REF!*'[1]נתוני אגירה'!$B$16 -> #REF! | L47: =#REF!*'[1]נתוני אגירה'!$B$16 -> #REF! | M47: =#REF!*'[1]נתוני אגירה'!$B$16 -> #REF! | N47: =#REF!*'[1]נתוני אגירה'!$B$16 -> #REF! | O47: =#REF!*'[1]נתוני אגירה'!$B$16 -> #REF! | P47: =#REF!*'[1]נתוני אגירה'!$B$16 -> #REF! | Q47: =#REF!*'[1]נתוני אגירה'!$B$16 -> #REF! | R47: =#REF!*'[1]נתוני אגירה'!$B$16 -> #REF! | ... AD47: =#REF!*'[1]נתוני אגירה'!$B$16 -> #REF!
A48: שדרות | B48: שדרות | C48: 49705.495 | D48: 261607.87 | E48: 0.86953161 | F48: 4.0207899e+08 | G48: 3.4624236e+08 | H48: 1.1320065e+08 | I48: =(C48*'[1]נתוני אגירה'!$B$8+'[1]נתוני אגירה'!$B$4*'נתונים מניתוח אגירה (2)'!D43+'[1]נתוני אגירה'!$B$12)*'[1]נתוני אגירה'!$B$15 -> 1.4895059e+08 | J48: =NPV('[1]נתוני אגירה'!$B$17,'נתונים מניתוח אגירה (2)'!K43:AD43) -> #REF! | K48: =#REF!*'[1]נתוני אגירה'!$B$16 -> #REF! | L48: =#REF!*'[1]נתוני אגירה'!$B$16 -> #REF! | M48: =#REF!*'[1]נתוני אגירה'!$B$16 -> #REF! | N48: =#REF!*'[1]נתוני אגירה'!$B$16 -> #REF! | O48: =#REF!*'[1]נתוני אגירה'!$B$16 -> #REF! | P48: =#REF!*'[1]נתוני אגירה'!$B$16 -> #REF! | Q48: =#REF!*'[1]נתוני אגירה'!$B$16 -> #REF! | R48: =#REF!*'[1]נתוני אגירה'!$B$16 -> #REF! | ... AD48: =#REF!*'[1]נתוני אגירה'!$B$16 -> #REF!
A49: שובה | B49: שובה | C49: 1310.9393 | D49: 6899.6807 | E49: 1 | F49: 13691611 | G49: 9789148.2 | H49: 3588723.3 | I49: =(C49*'[1]נתוני אגירה'!$B$8+'[1]נתוני אגירה'!$B$4*'נתונים מניתוח אגירה (2)'!D37+'[1]נתוני אגירה'!$B$12)*'[1]נתוני אגירה'!$B$15 -> 4991447.3 | J49: =NPV('[1]נתוני אגירה'!$B$17,'נתונים מניתוח אגירה (2)'!K37:AD37) -> #REF! | K49: =#REF!*'[1]נתוני אגירה'!$B$16 -> #REF! | L49: =#REF!*'[1]נתוני אגירה'!$B$16 -> #REF! | M49: =#REF!*'[1]נתוני אגירה'!$B$16 -> #REF! | N49: =#REF!*'[1]נתוני אגירה'!$B$16 -> #REF! | O49: =#REF!*'[1]נתוני אגירה'!$B$16 -> #REF! | P49: =#REF!*'[1]נתוני אגירה'!$B$16 -> #REF! | Q49: =#REF!*'[1]נתוני אגירה'!$B$16 -> #REF! | R49: =#REF!*'[1]נתוני אגירה'!$B$16 -> #REF! | ... AD49: =#REF!*'[1]נתוני אגירה'!$B$16 -> #REF!
A50: שוקדה | B50: שוקדה | C50: 733.39436 | D50: 3859.9703 | E50: 1 | F50: 13892325 | G50: 5773885.4 | H50: 2949540.5 | I50: =(C50*'[1]נתוני אגירה'!$B$8+'[1]נתוני אגירה'!$B$4*'נתונים מניתוח אגירה (2)'!D38+'[1]נתוני אגירה'!$B$12)*'[1]נתוני אגירה'!$B$15 -> 9513430.9 | J50: =NPV('[1]נתוני אגירה'!$B$17,'נתונים מניתוח אגירה (2)'!K38:AD38) -> #REF! | K50: =#REF!*'[1]נתוני אגירה'!$B$16 -> #REF! | L50: =#REF!*'[1]נתוני אגירה'!$B$16 -> #REF! | M50: =#REF!*'[1]נתוני אגירה'!$B$16 -> #REF! | N50: =#REF!*'[1]נתוני אגירה'!$B$16 -> #REF! | O50: =#REF!*'[1]נתוני אגירה'!$B$16 -> #REF! | P50: =#REF!*'[1]נתוני אגירה'!$B$16 -> #REF! | Q50: =#REF!*'[1]נתוני אגירה'!$B$16 -> #REF! | R50: =#REF!*'[1]נתוני אגירה'!$B$16 -> #REF! | ... AD50: =#REF!*'[1]נתוני אגירה'!$B$16 -> #REF!
A51: תושיה | B51: תושייה | C51: 749.4498 | D51: 3944.4727 | E51: 1 | F51: 22642403 | G51: 5885507.5 | H51: 4351821.4 | I51: =(C51*'[1]נתוני אגירה'!$B$8+'[1]נתוני אגירה'!$B$4*'נתונים מניתוח אגירה (2)'!D39+'[1]נתוני אגירה'!$B$12)*'[1]נתוני אגירה'!$B$15 -> 13813917 | J51: =NPV('[1]נתוני אגירה'!$B$17,'נתונים מניתוח אגירה (2)'!K39:AD39) -> #REF! | K51: =#REF!*'[1]נתוני אגירה'!$B$16 -> #REF! | L51: =#REF!*'[1]נתוני אגירה'!$B$16 -> #REF! | M51: =#REF!*'[1]נתוני אגירה'!$B$16 -> #REF! | N51: =#REF!*'[1]נתוני אגירה'!$B$16 -> #REF! | O51: =#REF!*'[1]נתוני אגירה'!$B$16 -> #REF! | P51: =#REF!*'[1]נתוני אגירה'!$B$16 -> #REF! | Q51: =#REF!*'[1]נתוני אגירה'!$B$16 -> #REF! | R51: =#REF!*'[1]נתוני אגירה'!$B$16 -> #REF! | ... AD51: =#REF!*'[1]נתוני אגירה'!$B$16 -> #REF!
A52: תלמי אליהו | B52: תלמי אליהו | C52: 704.84623 | D52: 3709.717 | E52: 0.77831878 | F52: 5910327.3 | G52: 5575410.4 | H52: 1725822.9 | I52: =(C52*'[1]נתוני אגירה'!$B$8+'[1]נתוני אגירה'!$B$4*'נתונים מניתוח אגירה (2)'!D5+'[1]נתוני אגירה'!$B$12)*'[1]נתוני אגירה'!$B$15 -> 7008353.5 | J52: =NPV('[1]נתוני אגירה'!$B$17,'נתונים מניתוח אגירה (2)'!K5:AD5) -> #REF! | K52: =#REF!*'[1]נתוני אגירה'!$B$16 -> #REF! | L52: =#REF!*'[1]נתוני אגירה'!$B$16 -> #REF! | M52: =#REF!*'[1]נתוני אגירה'!$B$16 -> #REF! | N52: =#REF!*'[1]נתוני אגירה'!$B$16 -> #REF! | O52: =#REF!*'[1]נתוני אגירה'!$B$16 -> #REF! | P52: =#REF!*'[1]נתוני אגירה'!$B$16 -> #REF! | Q52: =#REF!*'[1]נתוני אגירה'!$B$16 -> #REF! | R52: =#REF!*'[1]נתוני אגירה'!$B$16 -> #REF! | ... AD52: =#REF!*'[1]נתוני אגירה'!$B$16 -> #REF!
A53: תלמי יוסף | B53: תלמי יוסף | C53: 1197.5538 | D53: 6302.9149 | E53: 0.51413734 | F53: 9740333.2 | G53: 9000858.8 | H53: 2823166.8 | I53: =(C53*'[1]נתוני אגירה'!$B$8+'[1]נתוני אגירה'!$B$4*'נתונים מניתוח אגירה (2)'!D9+'[1]נתוני אגירה'!$B$12)*'[1]נתוני אגירה'!$B$15 -> 4872825.4 | J53: =NPV('[1]נתוני אגירה'!$B$17,'נתונים מניתוח אגירה (2)'!K9:AD9) -> #REF! | K53: =#REF!*'[1]נתוני אגירה'!$B$16 -> #REF! | L53: =#REF!*'[1]נתוני אגירה'!$B$16 -> #REF! | M53: =#REF!*'[1]נתוני אגירה'!$B$16 -> #REF! | N53: =#REF!*'[1]נתוני אגירה'!$B$16 -> #REF! | O53: =#REF!*'[1]נתוני אגירה'!$B$16 -> #REF! | P53: =#REF!*'[1]נתוני אגירה'!$B$16 -> #REF! | Q53: =#REF!*'[1]נתוני אגירה'!$B$16 -> #REF! | R53: =#REF!*'[1]נתוני אגירה'!$B$16 -> #REF! | ... AD53: =#REF!*'[1]נתוני אגירה'!$B$16 -> #REF!
A54: תקומה | B54: תקומה | C54: 1704.5137 | D54: 8971.1245 | E54: 1 | F54: 18526343 | G54: 12525393 | H54: 4727126 | I54: =(C54*'[1]נתוני אגירה'!$B$8+'[1]נתוני אגירה'!$B$4*'נתונים מניתוח אגירה (2)'!D40+'[1]נתוני אגירה'!$B$12)*'[1]נתוני אגירה'!$B$15 -> 6723397.3 | J54: =NPV('[1]נתוני אגירה'!$B$17,'נתונים מניתוח אגירה (2)'!K40:AD40) -> #REF! | K54: =#REF!*'[1]נתוני אגירה'!$B$16 -> #REF! | L54: =#REF!*'[1]נתוני אגירה'!$B$16 -> #REF! | M54: =#REF!*'[1]נתוני אגירה'!$B$16 -> #REF! | N54: =#REF!*'[1]נתוני אגירה'!$B$16 -> #REF! | O54: =#REF!*'[1]נתוני אגירה'!$B$16 -> #REF! | P54: =#REF!*'[1]נתוני אגירה'!$B$16 -> #REF! | Q54: =#REF!*'[1]נתוני אגירה'!$B$16 -> #REF! | R54: =#REF!*'[1]נתוני אגירה'!$B$16 -> #REF! | ... AD54: =#REF!*'[1]נתוני אגירה'!$B$16 -> #REF!
C55: 4 | D55: 5 | E55: 7 | H55: =#REF!+#REF! -> #REF!
I57: =SUM(I3:I53) -> #REF! | J57: =SUM(J3:J53) -> #REF!

Sheet טבלת סיכום
A1: שם יישוב | B1: צריכה יישובית שנתית (KWH) | C1: שטח גג אפקטיבי (מ"ר) | D1: שטח קירוי אפקטיבי (מ"ר) | E1: אחוז השטח הדורש קירוי (%) | F1: מספר אנשים | G1: שטח גג לנפש (מ"ר) | H1: פוטנציאל PV (KW) | I1: פוטנציאל סולארי לנפש (KW) | J1: הספק אגירה (KW) | K1: קיבולת אגירה (KWH) | L1: עצמאות אנרגטית בחורף (%) | M1: עלות מערכות פי וי (₪) | N1: עלות אגירה -(₪) | O1: עלות תחזוקה (₪) | P1: עלות כוללת לנפש (₪) | Q1: עלות כוללת לנפש לשנה, ל-25 שנה
A2: אבשלום | B2: 5914877 | C2: 5405.35 | D2: 1419.2 | E2: 0.2079551 | F2: 382 | G2: =C2/F2 -> 14.150131 | H2: 822.23494 | I2: =H2/F2 -> 2.1524475 | J2: 513.53404 | K2: 2702.8108 | L2: 0.18210408 | M2: 4161009 | N2: 4245351.6 | O2: 1317909.9 | P2: =(O2+N2+M2)/F2 -> 25456.206 | Q2: =P2/25 -> 1018.2482
A3: אוהד | B3: 2908135.9 | C3: 11785.95 | D3: 0 | E3: 0 | F3: 409 | G3: =C3/F3 -> 28.816504 | H3: 1419.994 | I3: =H3/F3 -> 3.4718679 | J3: 886.8697 | K3: 4667.7352 | L3: 0.63964832 | M3: 6011848.4 | N3: 6840891.1 | O3: 2016701.4 | P3: =(O3+N3+M3)/F3 -> 36355.601 | Q3: =P3/25 -> 1454.224
A4: אור הנר | B4: 3139095.8 | C4: 48281.15 | D4: 9581.6 | E4: 0.16559185 | F4: 835 | G4: =C4/F4 -> 57.821737 | H4: 6971.4157 | I4: =H4/F4 -> 8.3490008 | J4: 1061.6403 | K4: 5587.5805 | L4: 1 | M4: 26751608 | N4: 8055947.8 | O4: 4774330 | P4: =(O4+N4+M4)/F4 -> 47403.455 | Q4: =P4/25 -> 1896.1382
A5: איבים | B5: 937430.16 | C5: 3171.1 | D5: 1579.8 | E5: 0.33252647 | F5: 774 | G5: =C5/F5 -> 4.0970284 | H5: 572.39759 | I5: =H5/F5 -> 0.73953177 | J5: 321.89345 | K5: 1694.1761 | L5: 0.79988645 | M5: 3533942 | N5: 2913009.7 | O5: 918951.51 | P5: =(O5+N5+M5)/F5 -> 9516.6708 | Q5: =P5/25 -> 380.66683
A6: ארז | B6: 1652372.9 | C6: 44386.55 | D6: 11743.8 | E6: 0.20922371 | F6: 616 | G6: =C6/F6 -> 72.056088 | H6: 6762.6928 | I6: =H6/F6 -> 10.978397 | J6: 548.54071 | K6: 2887.0564 | L6: 1 | M6: 26503562 | N6: 4488728.3 | O6: 4099695 | P6: =(O6+N6+M6)/F6 -> 56967.508 | Q6: =P6/25 -> 2278.7003
A7: בארי | B7: 1836361.8 | C7: 53332.55 | D7: 13186.5 | E7: 0.19823645 | F7: 1108 | G7: =C7/F7 -> 48.13407 | H7: 8014.3434 | I7: =H7/F7 -> 7.2331619 | J7: 601.61253 | K7: 3166.3817 | L7: 1 | M7: 44502145 | N7: 4857699.2 | O7: 5664282.9 | P7: =(O7+N7+M7)/F7 -> 49660.764 | Q7: =P7/25 -> 1986.4306
A8: ברור חיל | B8: 551440.27 | C8: 48753.7 | D8: 22887 | E8: 0.31946924 | F8: 1063 | G8: =C8/F8 -> 45.864252 | H8: 8631.4096 | I8: =H8/F8 -> 8.1198585 | J8: 169.69883 | K8: 893.15175 | L8: 1 | M8: 33871311 | N8: 1854907.9 | O8: 4296164.4 | P8: =(O8+N8+M8)/F8 -> 37650.407 | Q8: =P8/25 -> 1506.0163
A9: גבים | B9: 5534800.6 | C9: 84605.9 | D9: 124313.9 | E9: 0.59503168 | F9: 616 | G9: =C9/F9 -> 137.34724 | H9: 25171.06 | I9: =H9/F9 -> 40.862111 | J9: 1831.9076 | K9: 9641.6191 | L9: 1 | M9: 1.3110011e+08 | N9: 13411073 | O9: 21208946 | P9: =(O9+N9+M9)/F9 -> 269026.18 | Q9: =P9/25 -> 10761.047
A10: גברעם | B10: 1017844.2 | C10: 52811.3 | D10: 9085.1 | E10: 0.14677913 | F10: 674 | G10: =C10/F10 -> 78.355045 | H10: 7457.3976 | I10: =H10/F10 -> 11.064388 | J10: 326.50772 | K10: 1718.4617 | L10: 1 | M10: 29335792 | N10: 2945089.5 | O10: 4320387.8 | P10: =(O10+N10+M10)/F10 -> 54304.555 | Q10: =P10/25 -> 2172.1822
A11: דקל | B11: 1928073.1 | C11: 13931.55 | D11: 4344.2 | E11: 0.23770297 | F11: 392 | G11: =C11/F11 -> 35.539668 | H11: 2201.8976 | I11: =H11/F11 -> 5.6170857 | J11: 656.26948 | K11: 3454.0499 | L11: 1 | M11: 14002048 | N11: 5237690.4 | O11: 2435606.9 | P11: =(O11+N11+M11)/F11 -> 55294.248 | Q11: =P11/25 -> 2211.7699
A12: זיקים | B12: 5507119.5 | C12: 60681.85 | D12: 6295.4 | E12: 0.09399311 | F12: 918 | G12: =C12/F12 -> 66.102233 | H12: 8069.5482 | I12: =H12/F12 -> 8.7903575 | J12: 1875.7972 | K12: 9872.6168 | L12: 1 | M12: 26926540 | N12: 13716207 | O12: 5449933.3 | P12: =(O12+N12+M12)/F12 -> 50209.891 | Q12: =P12/25 -> 2008.3956
A13: זמרת | B13: 2420296.5 | C13: 14359.05 | D13: 2726 | E13: 0.1595547 | F13: 685 | G13: =C13/F13 -> 20.962117 | H13: 2058.4398 | I13: =H13/F13 -> 3.0050215 | J13: 834.96292 | K13: 4394.5417 | L13: 1 | M13: 9932082 | N13: 6480019.9 | O13: 2456759.8 | P13: =(O13+N13+M13)/F13 -> 27545.784 | Q13: =P13/25 -> 1101.8313
... A53: תקומה | B53: 4979254.8 | C53: 36490.2 | D53: 2550.2 | E53: 0.065322077 | F53: 724 | G53: =C53/F53 -> 50.400829 | H53: 4703.6627 | I53: =H53/F53 -> 6.4967716 | J53: 1704.5137 | K53: 8971.1245 | L53: 1 | M53: 18526343 | N53: 12525393 | O53: 4727126 | P53: =(O53+N53+M53)/F53 -> 49418.317 | Q53: =P53/25 -> 1976.7327

Sheet גיליון1
A1: שם יישוב | B1: מספר אנשים | C1: פוטנציאל סולארי לנפש (KW) | D1: עלות כוללת לנפש | E1: עלות לנפש
A2: אבשלום | B2: 382 | C2: 2.1524475 | D2: 25456.206 | E2: =D2/B2 -> 66.639282
A3: אוהד | B3: 409 | C3: 3.4718679 | D3: 36355.601 | E3: =D3/B3 -> 88.889
A4: אור הנר | B4: 835 | C4: 8.3490008 | D4: 47403.455 | E4: =D4/B4 -> 56.770605
A5: איבים | B5: 774 | C5: 0.73953177 | D5: 9516.6708 | E5: =D5/B5 -> 12.29544
A6: ארז | B6: 616 | C6: 10.978397 | D6: 56967.508 | E6: =D6/B6 -> 92.479721
A7: בארי | B7: 1108 | C7: 7.2331619 | D7: 49660.764 | E7: =D7/B7 -> 44.820184
A8: ברור חיל | B8: 1063 | C8: 8.1198585 | D8: 37650.407 | E8: =D8/B8 -> 35.41901
A9: גבים | B9: 616 | C9: 40.862111 | D9: 269026.18 | E9: =D9/B9 -> 436.73082
A10: גברעם | B10: 674 | C10: 11.064388 | D10: 54304.555 | E10: =D10/B10 -> 80.570556
A11: דקל | B11: 392 | C11: 5.6170857 | D11: 55294.248 | E11: =D11/B11 -> 141.05675
A12: זיקים | B12: 918 | C12: 8.7903575 | D12: 50209.891 | E12: =D12/B12 -> 54.69487
A13: זמרת | B13: 685 | C13: 3.0050215 | D13: 27545.784 | E13: =D13/B13 -> 40.212823
... A53: תקומה | B53: 724 | C53: 6.4967716 | D53: 49418.317 | E53: =D53/B53 -> 68.257344

Sheet נתונים מניתוח אגירה
A1: 1 | B1: 2 | C1: 3 | D1: 4 | E1: 5 | F1: 6 | G1: 7 | H1: 8 | I1: 9 | J1: 10 | K1: 11 | L1: 12 | M1: 13 | N1: 14 | O1: 15 | P1: 16 | Q1: 17 | R1: 17 | S1: 17 | T1: 17
D2: תקומה
A3: יישוב | B3: איטרציה | C3: עצמאות אנרגטית (מבוקש) | D3: KW | E3: KWH | F3: אחוז העברה לרשת | G3: אחוז עצמאות אנרגטית בפועל חורף | H3: אחוז עצמאות אנרגטית בפועל מעבר | I3: אחוז עצמאות אנרגטית בפועל קיץ | J3: עלות מערכת אגירה, ₪ | K3: עלות תחזוקה מערכת אגירה | L3: עלויות תחזוקה PV | M3: עלות מערכת PV | N3: סה"כ עלות אגירה | O3: עלות מערכת PV | P3: עלות קירוי PV | Q3: סה"כ עלות PV | R3: עלות מערכותPV - ללא תחזוקה | S3: עלות אגירה - ללא תחזוקה | T3: עלות תחזוקה | U3: עלות מערכת אגירה | V3: עלות תחזוקה מהוונת | W3: 1 | X3: 2 | Y3: 3 | Z3: 4 | AA3: 5 | AB3: 6 | AC3: 7 | AD3: 8 | AE3: 9 | AF3: 10 | AG3: 11 | AH3: 12 | AI3: 13 | AJ3: 14 | AK3: 15 | AL3: 16 | AM3: 17 | AN3: 18 | AO3: 19 | AP3: 20
A4: צוחר | B4: 1 | C4: 1 | D4: 509.94848 | E4: 2683.9393 | F4: 9.0989831e-18 | G4: 0.40465573 | H4: 0.58405184 | I4: 0.54378594 | J4: =U4 -> 4220423.7 | K4: =V4 -> 671857.6 | L4: 566278.06 | M4: =O4 -> 3669750.7 | N4: =J4+K4 -> 4892281.3 | O4: 3669750.7 | P4: 0 | Q4: =L4+M4+P4 -> 4236028.7 | R4: =Q4-L4 -> 3669750.7 | S4: =J4 -> 4220423.7 | T4: =L4+K4 -> 1238135.7 | U4: =(D4*'[1]נתוני אגירה'!$B$8+'[1]נתוני אגירה'!$B$4*'נתונים מניתוח אגירה'!E4+'[1]נתוני אגירה'!$B$12)*'[1]נתוני אגירה'!$B$15 -> 4220423.7 | V4: =NPV('[1]נתוני אגירה'!$B$17,'נתונים מניתוח אגירה'!W4:AP4) -> 671857.6 | W4: =$J4*'[1]נתוני אגירה'!$B$16 -> 78916.142 | X4: =$J4*'[1]נתוני אגירה'!$B$16 -> 78916.142 | Y4: =$J4*'[1]נתוני אגירה'!$B$16 -> 78916.142 | Z4: =$J4*'[1]נתוני אגירה'!$B$16 -> 78916.142 | AA4: =$J4*'[1]נתוני אגירה'!$B$16 -> 78916.142 | AB4: =$J4*'[1]נתוני אגירה'!$B$16 -> 78916.142 | AC4: =$J4*'[1]נתוני אגירה'!$B$16 -> 78916.142 | AD4: =$J4*'[1]נתוני אגירה'!$B$16 -> 78916.142 | ... AP4: =$J4*'[1]נתוני אגירה'!$B$16 -> 78916.142
A5: אבשלום | B5: 2 | C5: 1 | D5: 513.53404 | E5: 2702.8108 | F5: 1.0211069e-17 | G5: 0.18210408 | H5: 0.26283632 | I5: 0.24471577 | J5: =U5 -> 4245351.6 | K5: =V5 -> 675825.93 | L5: 642083.97 | M5: =O5 -> 3418291.1 | N5: =J5+K5 -> 4921177.6 | O5: 3418291.1 | P5: 742717.86 | Q5: =L5+M5+P5 -> 4803093 | R5: =Q5-L5 -> 4161009 | S5: =J5 -> 4245351.6 | T5: =L5+K5 -> 1317909.9 | U5: =(D5*'[1]נתוני אגירה'!$B$8+'[1]נתוני אגירה'!$B$4*'נתונים מניתוח אגירה'!E5+'[1]נתוני אגירה'!$B$12)*'[1]נתוני אגירה'!$B$15 -> 4245351.6 | V5: =NPV('[1]נתוני אגירה'!$B$17,'נתונים מניתוח אגירה'!W5:AP5) -> 675825.93 | W5: =$J5*'[1]נתוני אגירה'!$B$16 -> 79382.26 | X5: =$J5*'[1]נתוני אגירה'!$B$16 -> 79382.26 | Y5: =$J5*'[1]נתוני אגירה'!$B$16 -> 79382.26 | Z5: =$J5*'[1]נתוני אגירה'!$B$16 -> 79382.26 | AA5: =$J5*'[1]נתוני אגירה'!$B$16 -> 79382.26 | AB5: =$J5*'[1]נתוני אגירה'!$B$16 -> 79382.26 | AC5: =$J5*'[1]נתוני אגירה'!$B$16 -> 79382.26 | AD5: =$J5*'[1]נתוני אגירה'!$B$16 -> 79382.26 | ... AP5: =$J5*'[1]נתוני אגירה'!$B$16 -> 79382.26
A6: תלמי אליהו | B6: 3 | C6: 1 | D6: 704.84623 | E6: 3709.717 | F6: 0.035142118 | G6: 0.77831878 | H6: 1 | I6: 1 | J6: =U6 -> 5575410.4 | K6: =V6 -> 887560.61 | L6: 838262.33 | M6: =O6 -> 5168269.4 | N6: =J6+K6 -> 6462971 | O6: 5168269.4 | P6: 742057.86 | Q6: =L6+M6+P6 -> 6748589.6 | R6: =Q6-L6 -> 5910327.3 | S6: =J6 -> 5575410.4 | T6: =L6+K6 -> 1725822.9 | U6: =(D6*'[1]נתוני אגירה'!$B$8+'[1]נתוני אגירה'!$B$4*'נתונים מניתוח אגירה'!E6+'[1]נתוני אגירה'!$B$12)*'[1]נתוני אגירה'!$B$15 -> 5575410.4 | V6: =NPV('[1]נתוני אגירה'!$B$17,'נתונים מניתוח אגירה'!W6:AP6) -> 887560.61 | W6: =$J6*'[1]נתוני אגירה'!$B$16 -> 104252.54 | X6: =$J6*'[1]נתוני אגירה'!$B$16 -> 104252.54 | Y6: =$J6*'[1]נתוני אגירה'!$B$16 -> 104252.54 | Z6: =$J6*'[1]נתוני אגירה'!$B$16 -> 104252.54 | AA6: =$J6*'[1]נתוני אגירה'!$B$16 -> 104252.54 | AB6: =$J6*'[1]נתוני אגירה'!$B$16 -> 104252.54 | AC6: =$J6*'[1]נתוני אגירה'!$B$16 -> 104252.54 | AD6: =$J6*'[1]נתוני אגירה'!$B$16 -> 104252.54 | ... AP6: =$J6*'[1]נתוני אגירה'!$B$16 -> 104252.54
A7: פרי גן | B7: 4 | C7: 1 | D7: 581.05353 | E7: 3058.1765 | F7: 0.20735428 | G7: 1 | H7: 1 | I7: 1 | J7: =U7 -> 4714767 | K7: =V7 -> 750553.09 | L7: 801205.45 | M7: =O7 -> 5753067.4 | N7: =J7+K7 -> 5465320.1 | O7: 5753067.4 | P7: 0 | Q7: =L7+M7+P7 -> 6554272.9 | R7: =Q7-L7 -> 5753067.4 | S7: =J7 -> 4714767 | T7: =L7+K7 -> 1551758.5 | U7: =(D7*'[1]נתוני אגירה'!$B$8+'[1]נתוני אגירה'!$B$4*'נתונים מניתוח אגירה'!E7+'[1]נתוני אגירה'!$B$12)*'[1]נתוני אגירה'!$B$15 -> 4714767 | V7: =NPV('[1]נתוני אגירה'!$B$17,'נתונים מניתוח אגירה'!W7:AP7) -> 750553.09 | W7: =$J7*'[1]נתוני אגירה'!$B$16 -> 88159.685 | X7: =$J7*'[1]נתוני אגירה'!$B$16 -> 88159.685 | Y7: =$J7*'[1]נתוני אגירה'!$B$16 -> 88159.685 | Z7: =$J7*'[1]נתוני אגירה'!$B$16 -> 88159.685 | AA7: =$J7*'[1]נתוני אגירה'!$B$16 -> 88159.685 | AB7: =$J7*'[1]נתוני אגירה'!$B$16 -> 88159.685 | AC7: =$J7*'[1]נתוני אגירה'!$B$16 -> 88159.685 | AD7: =$J7*'[1]נתוני אגירה'!$B$16 -> 88159.685 | ... AP7: =$J7*'[1]נתוני אגירה'!$B$16 -> 88159.685
A8: אוהד | B8: 5 | C8: 1 | D8: 886.8697 | E8: 4667.7352 | F8: 1.1502953e-17 | G8: 0.63964832 | H8: 0.92322375 | I8: 0.85957455 | J8: =U8 -> 6840891.1 | K8: =V8 -> 1089015 | L8: 927686.4 | M8: =O8 -> 6011848.4 | N8: =J8+K8 -> 7929906.1 | O8: 6011848.4 | P8: 0 | Q8: =L8+M8+P8 -> 6939534.8 | R8: =Q8-L8 -> 6011848.4 | S8: =J8 -> 6840891.1 | T8: =L8+K8 -> 2016701.4 | U8: =(D8*'[1]נתוני אגירה'!$B$8+'[1]נתוני אגירה'!$B$4*'נתונים מניתוח אגירה'!E8+'[1]נתוני אגירה'!$B$12)*'[1]נתוני אגירה'!$B$15 -> 6840891.1 | V8: =NPV('[1]נתוני אגירה'!$B$17,'נתונים מניתוח אגירה'!W8:AP8) -> 1089015 | W8: =$J8*'[1]נתוני אגירה'!$B$16 -> 127915.29 | X8: =$J8*'[1]נתוני אגירה'!$B$16 -> 127915.29 | Y8: =$J8*'[1]נתוני אגירה'!$B$16 -> 127915.29 | Z8: =$J8*'[1]נתוני אגירה'!$B$16 -> 127915.29 | AA8: =$J8*'[1]נתוני אגירה'!$B$16 -> 127915.29 | AB8: =$J8*'[1]נתוני אגירה'!$B$16 -> 127915.29 | AC8: =$J8*'[1]נתוני אגירה'!$B$16 -> 127915.29 | AD8: =$J8*'[1]נתוני אגירה'!$B$16 -> 127915.29 | ... AP8: =$J8*'[1]נתוני אגירה'!$B$16 -> 127915.29
A9: יבול | B9: 6 | C9: 1 | D9: 1041.7001 | E9: 5482.632 | F9: 1.2338539e-17 | G9: 0.70982566 | H9: 1 | I9: 0.95388052 | J9: =U9 -> 7917317.5 | K9: =V9 -> 1260373.4 | L9: 1006285.7 | M9: =O9 -> 6521951.8 | N9: =J9+K9 -> 9177691 | O9: 6521951.8 | P9: 961472.13 | Q9: =L9+M9+P9 -> 8489709.7 | R9: =Q9-L9 -> 7483423.9 | S9: =J9 -> 7917317.5 | T9: =L9+K9 -> 2266659.2 | U9: =(D9*'[1]נתוני אגירה'!$B$8+'[1]נתוני אגירה'!$B$4*'נתונים מניתוח אגירה'!E9+'[1]נתוני אגירה'!$B$12)*'[1]נתוני אגירה'!$B$15 -> 7917317.5 | V9: =NPV('[1]נתוני אגירה'!$B$17,'נתונים מניתוח אגירה'!W9:AP9) -> 1260373.4 | W9: =$J9*'[1]נתוני אגירה'!$B$16 -> 148042.99 | X9: =$J9*'[1]נתוני אגירה'!$B$16 -> 148042.99 | Y9: =$J9*'[1]נתוני אגירה'!$B$16 -> 148042.99 | Z9: =$J9*'[1]נתוני אגירה'!$B$16 -> 148042.99 | AA9: =$J9*'[1]נתוני אגירה'!$B$16 -> 148042.99 | AB9: =$J9*'[1]נתוני אגירה'!$B$16 -> 148042.99 | AC9: =$J9*'[1]נתוני אגירה'!$B$16 -> 148042.99 | AD9: =$J9*'[1]נתוני אגירה'!$B$16 -> 148042.99 | ... AP9: =$J9*'[1]נתוני אגירה'!$B$16 -> 148042.99
A10: תלמי יוסף | B10: 7 | C10: 1 | D10: 1197.5538 | E10: 6302.9149 | F10: 7.0207388e-18 | G10: 0.51413734 | H10: 0.74206996 | I10: 0.69090993 | J10: =U10 -> 9000858.8 | K10: =V10 -> 1432864.5 | L10: 1390302.2 | M10: =O10 -> 8212876.6 | N10: =J10+K10 -> 10433723 | O10: 8212876.6 | P10: 1527456.6 | Q10: =L10+M10+P10 -> 11130635 | R10: =Q10-L10 -> 9740333.2 | S10: =J10 -> 9000858.8 | T10: =L10+K10 -> 2823166.8 | U10: =(D10*'[1]נתוני אגירה'!$B$8+'[1]נתוני אגירה'!$B$4*'נתונים מניתוח אגירה'!E10+'[1]נתוני אגירה'!$B$12)*'[1]נתוני אגירה'!$B$15 -> 9000858.8 | V10: =NPV('[1]נתוני אגירה'!$B$17,'נתונים מניתוח אגירה'!W10:AP10) -> 1432864.5 | W10: =$J10*'[1]נתוני אגירה'!$B$16 -> 168303.73 | X10: =$J10*'[1]נתוני אגירה'!$B$16 -> 168303.73 | Y10: =$J10*'[1]נתוני אגירה'!$B$16 -> 168303.73 | Z10: =$J10*'[1]נתוני אגירה'!$B$16 -> 168303.73 | AA10: =$J10*'[1]נתוני אגירה'!$B$16 -> 168303.73 | AB10: =$J10*'[1]נתוני אגירה'!$B$16 -> 168303.73 | AC10: =$J10*'[1]נתוני אגירה'!$B$16 -> 168303.73 | AD10: =$J10*'[1]נתוני אגירה'!$B$16 -> 168303.73 | ... AP10: =$J10*'[1]נתוני אגירה'!$B$16 -> 168303.73
A11: שדה ניצן | B11: 8 | C11: 1 | D11: 946.80936 | E11: 4983.2072 | F11: 0.22663141 | G11: 1 | H11: 1 | I11: 1 | J11: =U11 -> 7257609.4 | K11: =V11 -> 1155353.2 | L11: 1314376.7 | M11: =O11 -> 8875550.8 | N11: =J11+K11 -> 8412962.6 | O11: 8875550.8 | P11: 2268436.5 | Q11: =L11+M11+P11 -> 12458364 | R11: =Q11-L11 -> 11143987 | S11: =J11 -> 7257609.4 | T11: =L11+K11 -> 2469729.9 | U11: =(D11*'[1]נתוני אגירה'!$B$8+'[1]נתוני אגירה'!$B$4*'נתונים מניתוח אגירה'!E11+'[1]נתוני אגירה'!$B$12)*'[1]נתוני אגירה'!$B$15 -> 7257609.4 | V11: =NPV('[1]נתוני אגירה'!$B$17,'נתונים מניתוח אגירה'!W11:AP11) -> 1155353.2 | W11: =$J11*'[1]נתוני אגירה'!$B$16 -> 135707.35 | X11: =$J11*'[1]נתוני אגירה'!$B$16 -> 135707.35 | Y11: =$J11*'[1]נתוני אגירה'!$B$16 -> 135707.35 | Z11: =$J11*'[1]נתוני אגירה'!$B$16 -> 135707.35 | AA11: =$J11*'[1]נתוני אגירה'!$B$16 -> 135707.35 | AB11: =$J11*'[1]נתוני אגירה'!$B$16 -> 135707.35 | AC11: =$J11*'[1]נתוני אגירה'!$B$16 -> 135707.35 | AD11: =$J11*'[1]נתוני אגירה'!$B$16 -> 135707.35 | ... AP11: =$J11*'[1]נתוני אגירה'!$B$16 -> 135707.35
A12: דקל | B12: 9 | C12: 1 | D12: 656.26948 | E12: 3454.0499 | F12: 0.56637992 | G12: 1 | H12: 1 | I12: 1 | J12: =U12 -> 5237690.4 | K12: =V12 -> 833798.3 | L12: 1601808.6 | M12: =O12 -> 9983674.3 | N12: =J12+K12 -> 6071488.7 | O12: 9983674.3 | P12: 4018373.5 | Q12: =L12+M12+P12 -> 15603856 | R12: =Q12-L12 -> 14002048 | S12: =J12 -> 5237690.4 | T12: =L12+K12 -> 2435606.9 | U12: =(D12*'[1]נתוני אגירה'!$B$8+'[1]נתוני אגירה'!$B$4*'נתונים מניתוח אגירה'!E12+'[1]נתוני אגירה'!$B$12)*'[1]נתוני אגירה'!$B$15 -> 5237690.4 | V12: =NPV('[1]נתוני אגירה'!$B$17,'נתונים מניתוח אגירה'!W12:AP12) -> 833798.3 | W12: =$J12*'[1]נתוני אגירה'!$B$16 -> 97937.636 | X12: =$J12*'[1]נתוני אגירה'!$B$16 -> 97937.636 | Y12: =$J12*'[1]נתוני אגירה'!$B$16 -> 97937.636 | Z12: =$J12*'[1]נתוני אגירה'!$B$16 -> 97937.636 | AA12: =$J12*'[1]נתוני אגירה'!$B$16 -> 97937.636 | AB12: =$J12*'[1]נתוני אגירה'!$B$16 -> 97937.636 | AC12: =$J12*'[1]נתוני אגירה'!$B$16 -> 97937.636 | AD12: =$J12*'[1]נתוני אגירה'!$B$16 -> 97937.636 | ... AP12: =$J12*'[1]נתוני אגירה'!$B$16 -> 97937.636
A13: סופה | B13: 10 | C13: 1 | D13: 116.34124 | E13: 612.32233 | F13: 0.92378198 | G13: 1 | H13: 1 | I13: 1 | J13: =U13 -> 1483950.2 | K13: =V13 -> 236232.97 | L13: 1483864.8 | M13: =O13 -> 10679649 | N13: =J13+K13 -> 1720183.2 | O13: 10679649 | P13: 3294264.6 | Q13: =L13+M13+P13 -> 15457778 | R13: =Q13-L13 -> 13973914 | S13: =J13 -> 1483950.2 | T13: =L13+K13 -> 1720097.7 | U13: =(D13*'[1]נתוני אגירה'!$B$8+'[1]נתוני אגירה'!$B$4*'נתונים מניתוח אגירה'!E13+'[1]נתוני אגירה'!$B$12)*'[1]נתוני אגירה'!$B$15 -> 1483950.2 | V13: =NPV('[1]נתוני אגירה'!$B$17,'נתונים מניתוח אגירה'!W13:AP13) -> 236232.97 | W13: =$J13*'[1]נתוני אגירה'!$B$16 -> 27747.836 | X13: =$J13*'[1]נתוני אגירה'!$B$16 -> 27747.836 | Y13: =$J13*'[1]נתוני אגירה'!$B$16 -> 27747.836 | Z13: =$J13*'[1]נתוני אגירה'!$B$16 -> 27747.836 | AA13: =$J13*'[1]נתוני אגירה'!$B$16 -> 27747.836 | AB13: =$J13*'[1]נתוני אגירה'!$B$16 -> 27747.836 | AC13: =$J13*'[1]נתוני אגירה'!$B$16 -> 27747.836 | AD13: =$J13*'[1]נתוני אגירה'!$B$16 -> 27747.836 | ... AP13: =$J13*'[1]נתוני אגירה'!$B$16 -> 27747.836
A14: יתד | B14: 11 | C14: 1 | D14: 1105.5013 | E14: 5818.428 | F14: 0.32216428 | G14: 1 | H14: 1 | I14: 1 | J14: =U14 -> 8360882.7 | K14: =V14 -> 1330985.5 | L14: 1489490.9 | M14: =O14 -> 9278629.5 | N14: =J14+K14 -> 9691868.1 | O14: 9278629.5 | P14: 3050651.9 | Q14: =L14+M14+P14 -> 13818772 | R14: =Q14-L14 -> 12329281 | S14: =J14 -> 8360882.7 | T14: =L14+K14 -> 2820476.3 | U14: =(D14*'[1]נתוני אגירה'!$B$8+'[1]נתוני אגירה'!$B$4*'נתונים מניתוח אגירה'!E14+'[1]נתוני אגירה'!$B$12)*'[1]נתוני אגירה'!$B$15 -> 8360882.7 | V14: =NPV('[1]נתוני אגירה'!$B$17,'נתונים מניתוח אגירה'!W14:AP14) -> 1330985.5 | W14: =$J14*'[1]נתוני אגירה'!$B$16 -> 156337.05 | X14: =$J14*'[1]נתוני אגירה'!$B$16 -> 156337.05 | Y14: =$J14*'[1]נתוני אגירה'!$B$16 -> 156337.05 | Z14: =$J14*'[1]נתוני אגירה'!$B$16 -> 156337.05 | AA14: =$J14*'[1]נתוני אגירה'!$B$16 -> 156337.05 | AB14: =$J14*'[1]נתוני אגירה'!$B$16 -> 156337.05 | AC14: =$J14*'[1]נתוני אגירה'!$B$16 -> 156337.05 | AD14: =$J14*'[1]נתוני אגירה'!$B$16 -> 156337.05 | ... AP14: =$J14*'[1]נתוני אגירה'!$B$16 -> 156337.05
A15: כרם שלום | B15: 12 | C15: 1 | D15: 293.01863 | E15: 1542.2033 | F15: 0.8184602 | G15: 1 | H15: 1 | I15: 1 | J15: =U15 -> 2712263.4 | K15: =V15 -> 431770.59 | L15: 1404391.4 | M15: =O15 -> 9534754.4 | N15: =J15+K15 -> 3144034 | O15: 9534754.4 | P15: 5016911.1 | Q15: =L15+M15+P15 -> 15956057 | R15: =Q15-L15 -> 14551666 | S15: =J15 -> 2712263.4 | T15: =L15+K15 -> 1836162 | U15: =(D15*'[1]נתוני אגירה'!$B$8+'[1]נתוני אגירה'!$B$4*'נתונים מניתוח אגירה'!E15+'[1]נתוני אגירה'!$B$12)*'[1]נתוני אגירה'!$B$15 -> 2712263.4 | V15: =NPV('[1]נתוני אגירה'!$B$17,'נתונים מניתוח אגירה'!W15:AP15) -> 431770.59 | W15: =$J15*'[1]נתוני אגירה'!$B$16 -> 50715.611 | X15: =$J15*'[1]נתוני אגירה'!$B$16 -> 50715.611 | Y15: =$J15*'[1]נתוני אגירה'!$B$16 -> 50715.611 | Z15: =$J15*'[1]נתוני אגירה'!$B$16 -> 50715.611 | AA15: =$J15*'[1]נתוני אגירה'!$B$16 -> 50715.611 | AB15: =$J15*'[1]נתוני אגירה'!$B$16 -> 50715.611 | AC15: =$J15*'[1]נתוני אגירה'!$B$16 -> 50715.611 | AD15: =$J15*'[1]נתוני אגירה'!$B$16 -> 50715.611 | ... AP15: =$J15*'[1]נתוני אגירה'!$B$16 -> 50715.611
... A21: רעים | B21: 18 | C21: 1 | D21: 972.8934 | E21: 5120.4916 | F21: 0.72565825 | G21: 1 | H21: 1 | I21: 1 | J21: =U21 -> 7438953.2 | K21: =V21 -> 1184221.7 | L21: 3403220 | M21: =O21 -> 20726780 | N21: =J21+K21 -> 8623174.9 | O21: 20726780 | P21: 4210711.3 | Q21: =L21+M21+P21 -> 28340711 | R21: =Q21-L21 -> 24937491 | S21: =J21 -> 7438953.2 | T21: =L21+K21 -> 4587441.7 | U21: =(D21*'[1]נתוני אגירה'!$B$8+'[1]נתוני אגירה'!$B$4*'נתונים מניתוח אגירה'!E21+'[1]נתוני אגירה'!$B$12)*'[1]נתוני אגירה'!$B$15 -> 7438953.2 | V21: =NPV('[1]נתוני אגירה'!$B$17,'נתונים מניתוח אגירה'!W21:AP21) -> 1184221.7 | W21: =$J21*'[1]נתוני אגירה'!$B$16 -> 139098.24 | X21: =$J21*'[1]נתוני אגירה'!$B$16 -> 139098.24 | Y21: =$J21*'[1]נתוני אגירה'!$B$16 -> 139098.24 | Z21: =$J21*'[1]נתוני אגירה'!$B$16 -> 139098.24 | AA21: =$J21*'[1]נתוני אגירה'!$B$16 -> 139098.24 | AB21: =$J21*'[1]נתוני אגירה'!$B$16 -> 139098.24 | AC21: =$J21*'[1]נתוני אגירה'!$B$16 -> 139098.24 | AD21: =$J21*'[1]נתוני אגירה'!$B$16 -> 139098.24 | ... AP21: =$J21*'[1]נתוני אגירה'!$B$16 -> 139098.24
A22: מפעלי מעון | B22: 19 | C22: 1 | J22: =U22 -> 0 | K22: =V22 -> 0 | L22: 2639269.9 | M22: =O22 -> 28350248 | O22: 28350248 | P22: 0 | Q22: =L22+M22+P22 -> 30989518 | R22: =Q22-L22 -> 28350248 | S22: =J22 -> 0 | T22: =L22+K22 -> 2639269.9 | V22: =NPV('[1]נתוני אגירה'!$B$17,'נתונים מניתוח אגירה'!W22:AP22) -> 0 | W22: =$J22*'[1]נתוני אגירה'!$B$16 -> 0 | X22: =$J22*'[1]נתוני אגירה'!$B$16 -> 0 | Y22: =$J22*'[1]נתוני אגירה'!$B$16 -> 0 | Z22: =$J22*'[1]נתוני אגירה'!$B$16 -> 0 | AA22: =$J22*'[1]נתוני אגירה'!$B$16 -> 0 | AB22: =$J22*'[1]נתוני אגירה'!$B$16 -> 0 | AC22: =$J22*'[1]נתוני אגירה'!$B$16 -> 0 | AD22: =$J22*'[1]נתוני אגירה'!$B$16 -> 0 | ... AP22: =$J22*'[1]נתוני אגירה'!$B$16 -> 0
A23: עין הבשור | B23: 20 | C23: 1 | D23: 2723.575 | E23: 14334.605 | F23: 0.38112987 | G23: 1 | H23: 1 | I23: 1 | J23: =U23 -> 19610208 | K23: =V23 -> 3121787.8 | L23: 4482506.5 | M23: =O23 -> 28888969 | N23: =J23+K23 -> 22731996 | O23: 28888969 | P23: 8524952.6 | Q23: =L23+M23+P23 -> 41896428 | R23: =Q23-L23 -> 37413921 | S23: =J23 -> 19610208 | T23: =L23+K23 -> 7604294.3 | U23: =(D23*'[1]נתוני אגירה'!$B$8+'[1]נתוני אגירה'!$B$4*'נתונים מניתוח אגירה'!E23+'[1]נתוני אגירה'!$B$12)*'[1]נתוני אגירה'!$B$15 -> 19610208 | V23: =NPV('[1]נתוני אגירה'!$B$17,'נתונים מניתוח אגירה'!W23:AP23) -> 3121787.8 | W23: =$J23*'[1]נתוני אגירה'!$B$16 -> 366684.02 | X23: =$J23*'[1]נתוני אגירה'!$B$16 -> 366684.02 | Y23: =$J23*'[1]נתוני אגירה'!$B$16 -> 366684.02 | Z23: =$J23*'[1]נתוני אגירה'!$B$16 -> 366684.02 | AA23: =$J23*'[1]נתוני אגירה'!$B$16 -> 366684.02 | AB23: =$J23*'[1]נתוני אגירה'!$B$16 -> 366684.02 | AC23: =$J23*'[1]נתוני אגירה'!$B$16 -> 366684.02 | AD23: =$J23*'[1]נתוני אגירה'!$B$16 -> 366684.02 | ... AP23: =$J23*'[1]נתוני אגירה'!$B$16 -> 366684.02
A24: נירים | B24: 21 | C24: 1 | D24: 96.222419 | E24: 506.43378 | F24: 0.97618277 | G24: 1 | H24: 1 | I24: 1 | J24: =U24 -> 1344078.2 | K24: =V24 -> 213966.47 | L24: 4146197.6 | M24: =O24 -> 27184568 | N24: =J24+K24 -> 1558044.7 | O24: 27184568 | P24: 5315438.4 | Q24: =L24+M24+P24 -> 36646204 | R24: =Q24-L24 -> 32500006 | S24: =J24 -> 1344078.2 | T24: =L24+K24 -> 4360164 | U24: =(D24*'[1]נתוני אגירה'!$B$8+'[1]נתוני אגירה'!$B$4*'נתונים מניתוח אגירה'!E24+'[1]נתוני אגירה'!$B$12)*'[1]נתוני אגירה'!$B$15 -> 1344078.2 | V24: =NPV('[1]נתוני אגירה'!$B$17,'נתונים מניתוח אגירה'!W24:AP24) -> 213966.47 | W24: =$J24*'[1]נתוני אגירה'!$B$16 -> 25132.421 | X24: =$J24*'[1]נתוני אגירה'!$B$16 -> 25132.421 | Y24: =$J24*'[1]נתוני אגירה'!$B$16 -> 25132.421 | Z24: =$J24*'[1]נתוני אגירה'!$B$16 -> 25132.421 | AA24: =$J24*'[1]נתוני אגירה'!$B$16 -> 25132.421 | AB24: =$J24*'[1]נתוני אגירה'!$B$16 -> 25132.421 | AC24: =$J24*'[1]נתוני אגירה'!$B$16 -> 25132.421 | AD24: =$J24*'[1]נתוני אגירה'!$B$16 -> 25132.421 | ... AP24: =$J24*'[1]נתוני אגירה'!$B$16 -> 25132.421
A25: בארי | B25: 22 | C25: 1 | D25: 601.61253 | E25: 3166.3817 | F25: 0.89066347 | G25: 1 | H25: 1 | I25: 1 | J25: =U25 -> 4857699.2 | K25: =V25 -> 773306.75 | L25: 4890976.1 | M25: =O25 -> 33662907 | N25: =J25+K25 -> 5631006 | O25: 33662907 | P25: 10839237 | Q25: =L25+M25+P25 -> 49393121 | R25: =Q25-L25 -> 44502145 | S25: =J25 -> 4857699.2 | T25: =L25+K25 -> 5664282.9 | U25: =(D25*'[1]נתוני אגירה'!$B$8+'[1]נתוני אגירה'!$B$4*'נתונים מניתוח אגירה'!E25+'[1]נתוני אגירה'!$B$12)*'[1]נתוני אגירה'!$B$15 -> 4857699.2 | V25: =NPV('[1]נתוני אגירה'!$B$17,'נתונים מניתוח אגירה'!W25:AP25) -> 773306.75 | W25: =$J25*'[1]נתוני אגירה'!$B$16 -> 90832.321 | X25: =$J25*'[1]נתוני אגירה'!$B$16 -> 90832.321 | Y25: =$J25*'[1]נתוני אגירה'!$B$16 -> 90832.321 | Z25: =$J25*'[1]נתוני אגירה'!$B$16 -> 90832.321 | AA25: =$J25*'[1]נתוני אגירה'!$B$16 -> 90832.321 | AB25: =$J25*'[1]נתוני אגירה'!$B$16 -> 90832.321 | AC25: =$J25*'[1]נתוני אגירה'!$B$16 -> 90832.321 | AD25: =$J25*'[1]נתוני אגירה'!$B$16 -> 90832.321 | ... AP25: =$J25*'[1]נתוני אגירה'!$B$16 -> 90832.321
A26: ניר יצחק | B26: 23 | C26: 1 | D26: 3228.1977 | E26: 16990.514 | F26: 0.43852694 | G26: 1 | H26: 1 | I26: 1 | J26: =U26 -> 23118494 | K26: =V26 -> 3680278.8 | L26: 5295672.7 | M26: =O26 -> 30342191 | N26: =J26+K26 -> 26798773 | O26: 30342191 | P26: 5426449.6 | Q26: =L26+M26+P26 -> 41064313 | R26: =Q26-L26 -> 35768640 | S26: =J26 -> 23118494 | T26: =L26+K26 -> 8975951.5 | U26: =(D26*'[1]נתוני אגירה'!$B$8+'[1]נתוני אגירה'!$B$4*'נתונים מניתוח אגירה'!E26+'[1]נתוני אגירה'!$B$12)*'[1]נתוני אגירה'!$B$15 -> 23118494 | V26: =NPV('[1]נתוני אגירה'!$B$17,'נתונים מניתוח אגירה'!W26:AP26) -> 3680278.8 | W26: =$J26*'[1]נתוני אגירה'!$B$16 -> 432284.16 | X26: =$J26*'[1]נתוני אגירה'!$B$16 -> 432284.16 | Y26: =$J26*'[1]נתוני אגירה'!$B$16 -> 432284.16 | Z26: =$J26*'[1]נתוני אגירה'!$B$16 -> 432284.16 | AA26: =$J26*'[1]נתוני אגירה'!$B$16 -> 432284.16 | AB26: =$J26*'[1]נתוני אגירה'!$B$16 -> 432284.16 | AC26: =$J26*'[1]נתוני אגירה'!$B$16 -> 432284.16 | AD26: =$J26*'[1]נתוני אגירה'!$B$16 -> 432284.16 | ... AP26: =$J26*'[1]נתוני אגירה'!$B$16 -> 432284.16
A27: עין השלושה | B27: 24 | C27: 1 | D27: 259.85232 | E27: 1367.6438 | F27: 0.9510119 | G27: 1 | H27: 1 | I27: 1 | J27: =U27 -> 2481681.5 | K27: =V27 -> 395063.79 | L27: 4841906.9 | M27: =O27 -> 32483649 | N27: =J27+K27 -> 2876745.3 | O27: 32483649 | P27: 4594544.3 | Q27: =L27+M27+P27 -> 41920101 | R27: =Q27-L27 -> 37078194 | S27: =J27 -> 2481681.5 | T27: =L27+K27 -> 5236970.7 | U27: =(D27*'[1]נתוני אגירה'!$B$8+'[1]נתוני אגירה'!$B$4*'נתונים מניתוח אגירה'!E27+'[1]נתוני אגירה'!$B$12)*'[1]נתוני אגירה'!$B$15 -> 2481681.5 | V27: =NPV('[1]נתוני אגירה'!$B$17,'נתונים מניתוח אגירה'!W27:AP27) -> 395063.79 | W27: =$J27*'[1]נתוני אגירה'!$B$16 -> 46404.045 | X27: =$J27*'[1]נתוני אגירה'!$B$16 -> 46404.045 | Y27: =$J27*'[1]נתוני אגירה'!$B$16 -> 46404.045 | Z27: =$J27*'[1]נתוני אגירה'!$B$16 -> 46404.045 | AA27: =$J27*'[1]נתוני אגירה'!$B$16 -> 46404.045 | AB27: =$J27*'[1]נתוני אגירה'!$B$16 -> 46404.045 | AC27: =$J27*'[1]נתוני אגירה'!$B$16 -> 46404.045 | AD27: =$J27*'[1]נתוני אגירה'!$B$16 -> 46404.045 | ... AP27: =$J27*'[1]נתוני אגירה'!$B$16 -> 46404.045
A28: עמיעוז | B28: 25 | C28: 1 | D28: 2296.7858 | E28: 12088.346 | F28: 0.60577728 | G28: 1 | H28: 1 | I28: 1 | J28: =U28 -> 16643043 | K28: =V28 -> 2649439 | L28: 5116204.4 | M28: =O28 -> 32580776 | N28: =J28+K28 -> 19292482 | O28: 32580776 | P28: 1384587.9 | Q28: =L28+M28+P28 -> 39081568 | R28: =Q28-L28 -> 33965364 | S28: =J28 -> 16643043 | T28: =L28+K28 -> 7765643.4 | U28: =(D28*'[1]נתוני אגירה'!$B$8+'[1]נתוני אגירה'!$B$4*'נתונים מניתוח אגירה'!E28+'[1]נתוני אגירה'!$B$12)*'[1]נתוני אגירה'!$B$15 -> 16643043 | V28: =NPV('[1]נתוני אגירה'!$B$17,'נתונים מניתוח אגירה'!W28:AP28) -> 2649439 | W28: =$J28*'[1]נתוני אגירה'!$B$16 -> 311202.11 | X28: =$J28*'[1]נתוני אגירה'!$B$16 -> 311202.11 | Y28: =$J28*'[1]נתוני אגירה'!$B$16 -> 311202.11 | Z28: =$J28*'[1]נתוני אגירה'!$B$16 -> 311202.11 | AA28: =$J28*'[1]נתוני אגירה'!$B$16 -> 311202.11 | AB28: =$J28*'[1]נתוני אגירה'!$B$16 -> 311202.11 | AC28: =$J28*'[1]נתוני אגירה'!$B$16 -> 311202.11 | AD28: =$J28*'[1]נתוני אגירה'!$B$16 -> 311202.11 | ... AP28: =$J28*'[1]נתוני אגירה'!$B$16 -> 311202.11
A29: שטח כללי | B29: 26 | C29: 1 | J29: =U29 -> 0 | K29: =V29 -> 0 | L29: 4682093.7 | M29: =O29 -> 40378615 | O29: 40378615 | P29: 0 | Q29: =L29+M29+P29 -> 45060708 | R29: =Q29-L29 -> 40378615 | S29: =J29 -> 0 | T29: =L29+K29 -> 4682093.7 | V29: =NPV('[1]נתוני אגירה'!$B$17,'נתונים מניתוח אגירה'!W29:AP29) -> 0 | W29: =$J29*'[1]נתוני אגירה'!$B$16 -> 0 | X29: =$J29*'[1]נתוני אגירה'!$B$16 -> 0 | Y29: =$J29*'[1]נתוני אגירה'!$B$16 -> 0 | Z29: =$J29*'[1]נתוני אגירה'!$B$16 -> 0 | AA29: =$J29*'[1]נתוני אגירה'!$B$16 -> 0 | AB29: =$J29*'[1]נתוני אגירה'!$B$16 -> 0 | AC29: =$J29*'[1]נתוני אגירה'!$B$16 -> 0 | AD29: =$J29*'[1]נתוני אגירה'!$B$16 -> 0 | ... AP29: =$J29*'[1]נתוני אגירה'!$B$16 -> 0
A30: ניר עוז | B30: 27 | C30: 1 | D30: 700.9933 | E30: 3689.4384 | F30: 0.89683932 | G30: 1 | H30: 1 | I30: 1 | J30: =U30 -> 5548623.6 | K30: =V30 -> 883296.38 | L30: 6988316.1 | M30: =O30 -> 38991866 | N30: =J30+K30 -> 6431920 | O30: 38991866 | P30: 21432706 | Q30: =L30+M30+P30 -> 67412888 | R30: =Q30-L30 -> 60424571 | S30: =J30 -> 5548623.6 | T30: =L30+K30 -> 7871612.5 | U30: =(D30*'[1]נתוני אגירה'!$B$8+'[1]נתוני אגירה'!$B$4*'נתונים מניתוח אגירה'!E30+'[1]נתוני אגירה'!$B$12)*'[1]נתוני אגירה'!$B$15 -> 5548623.6 | V30: =NPV('[1]נתוני אגירה'!$B$17,'נתונים מניתוח אגירה'!W30:AP30) -> 883296.38 | W30: =$J30*'[1]נתוני אגירה'!$B$16 -> 103751.66 | X30: =$J30*'[1]נתוני אגירה'!$B$16 -> 103751.66 | Y30: =$J30*'[1]נתוני אגירה'!$B$16 -> 103751.66 | Z30: =$J30*'[1]נתוני אגירה'!$B$16 -> 103751.66 | AA30: =$J30*'[1]נתוני אגירה'!$B$16 -> 103751.66 | AB30: =$J30*'[1]נתוני אגירה'!$B$16 -> 103751.66 | AC30: =$J30*'[1]נתוני אגירה'!$B$16 -> 103751.66 | AD30: =$J30*'[1]נתוני אגירה'!$B$16 -> 103751.66 | ... AP30: =$J30*'[1]נתוני אגירה'!$B$16 -> 103751.66
A31: מגן | B31: 28 | C31: 1 | D31: 4535.3504 | E31: 23870.265 | F31: 0.60229628 | G31: 1 | H31: 1 | I31: 1 | J31: =U31 -> 32206205 | K31: =V31 -> 5126969.5 | L31: 13565490 | M31: =O31 -> 70756533 | N31: =J31+K31 -> 37333174 | O31: 70756533 | P31: 29697680 | Q31: =L31+M31+P31 -> 1.140197e+08 | R31: =Q31-L31 -> 1.0045421e+08 | S31: =J31 -> 32206205 | T31: =L31+K31 -> 18692460 | U31: =(D31*'[1]נתוני אגירה'!$B$8+'[1]נתוני אגירה'!$B$4*'נתונים מניתוח אגירה'!E31+'[1]נתוני אגירה'!$B$12)*'[1]נתוני אגירה'!$B$15 -> 32206205 | V31: =NPV('[1]נתוני אגירה'!$B$17,'נתונים מניתוח אגירה'!W31:AP31) -> 5126969.5 | W31: =$J31*'[1]נתוני אגירה'!$B$16 -> 602211.91 | X31: =$J31*'[1]נתוני אגירה'!$B$16 -> 602211.91 | Y31: =$J31*'[1]נתוני אגירה'!$B$16 -> 602211.91 | Z31: =$J31*'[1]נתוני אגירה'!$B$16 -> 602211.91 | AA31: =$J31*'[1]נתוני אגירה'!$B$16 -> 602211.91 | AB31: =$J31*'[1]נתוני אגירה'!$B$16 -> 602211.91 | AC31: =$J31*'[1]נתוני אגירה'!$B$16 -> 602211.91 | AD31: =$J31*'[1]נתוני אגירה'!$B$16 -> 602211.91 | ... AP31: =$J31*'[1]נתוני אגירה'!$B$16 -> 602211.91
A32: נתיב העשרה | B32: 29 | C32: 1 | D32: 2236.9287 | E32: 11773.309 | F32: 1.1183257e-17 | G32: 0.62516186 | H32: 0.90231499 | I32: 0.84010729 | J32: =U32 -> 16226899 | K32: =V32 -> 2583192.2 | L32: 2364022.7 | M32: =O32 -> 11729963 | N32: =J32+K32 -> 18810092 | O32: 11729963 | P32: 10538440 | Q32: =L32+M32+P32 -> 24632426 | R32: =Q32-L32 -> 22268403 | S32: =J32 -> 16226899 | T32: =L32+K32 -> 4947215 | U32: =(D32*'[1]נתוני אגירה'!$B$8+'[1]נתוני אגירה'!$B$4*'נתונים מניתוח אגירה'!E32+'[1]נתוני אגירה'!$B$12)*'[1]נתוני אגירה'!$B$15 -> 16226899 | V32: =NPV('[1]נתוני אגירה'!$B$17,'נתונים מניתוח אגירה'!W32:AP32) -> 2583192.2 | W32: =$J32*'[1]נתוני אגירה'!$B$16 -> 303420.79 | X32: =$J32*'[1]נתוני אגירה'!$B$16 -> 303420.79 | Y32: =$J32*'[1]נתוני אגירה'!$B$16 -> 303420.79 | Z32: =$J32*'[1]נתוני אגירה'!$B$16 -> 303420.79 | AA32: =$J32*'[1]נתוני אגירה'!$B$16 -> 303420.79 | AB32: =$J32*'[1]נתוני אגירה'!$B$16 -> 303420.79 | AC32: =$J32*'[1]נתוני אגירה'!$B$16 -> 303420.79 | AD32: =$J32*'[1]נתוני אגירה'!$B$16 -> 303420.79 | ... AP32: =$J32*'[1]נתוני אגירה'!$B$16 -> 303420.79
A33: מבקיעים | B33: 30 | C33: 1 | D33: 2268.9769 | E33: 11941.984 | F33: 1.3014892e-17 | G33: 0.53414924 | H33: 0.77095373 | I33: 0.71780238 | J33: =U33 -> 16449708 | K33: =V33 -> 2618661.5 | L33: 2553127.6 | M33: =O33 -> 13952605 | N33: =J33+K33 -> 19068369 | O33: 13952605 | P33: 4068525.6 | Q33: =L33+M33+P33 -> 20574258 | R33: =Q33-L33 -> 18021130 | S33: =J33 -> 16449708 | T33: =L33+K33 -> 5171789.1 | U33: =(D33*'[1]נתוני אגירה'!$B$8+'[1]נתוני אגירה'!$B$4*'נתונים מניתוח אגירה'!E33+'[1]נתוני אגירה'!$B$12)*'[1]נתוני אגירה'!$B$15 -> 16449708 | V33: =NPV('[1]נתוני אגירה'!$B$17,'נתונים מניתוח אגירה'!W33:AP33) -> 2618661.5 | W33: =$J33*'[1]נתוני אגירה'!$B$16 -> 307587 | X33: =$J33*'[1]נתוני אגירה'!$B$16 -> 307587 | Y33: =$J33*'[1]נתוני אגירה'!$B$16 -> 307587 | Z33: =$J33*'[1]נתוני אגירה'!$B$16 -> 307587 | AA33: =$J33*'[1]נתוני אגירה'!$B$16 -> 307587 | AB33: =$J33*'[1]נתוני אגירה'!$B$16 -> 307587 | AC33: =$J33*'[1]נתוני אגירה'!$B$16 -> 307587 | AD33: =$J33*'[1]נתוני אגירה'!$B$16 -> 307587 | ... AP33: =$J33*'[1]נתוני אגירה'!$B$16 -> 307587
A34: כרמייה | B34: 31 | C34: 1 | D34: 433.37368 | E34: 2280.9141 | F34: 0.86194627 | G34: 1 | H34: 1 | I34: 1 | J34: =U34 -> 3688053.1 | K34: =V34 -> 587108.48 | L34: 3085098.8 | M34: =O34 -> 19061685 | N34: =J34+K34 -> 4275161.6 | O34: 19061685 | P34: 3191756.6 | Q34: =L34+M34+P34 -> 25338541 | R34: =Q34-L34 -> 22253442 | S34: =J34 -> 3688053.1 | T34: =L34+K34 -> 3672207.3 | U34: =(D34*'[1]נתוני אגירה'!$B$8+'[1]נתוני אגירה'!$B$4*'נתונים מניתוח אגירה'!E34+'[1]נתוני אגירה'!$B$12)*'[1]נתוני אגירה'!$B$15 -> 3688053.1 | V34: =NPV('[1]נתוני אגירה'!$B$17,'נתונים מניתוח אגירה'!W34:AP34) -> 587108.48 | W34: =$J34*'[1]נתוני אגירה'!$B$16 -> 68961.542 | X34: =$J34*'[1]נתוני אגירה'!$B$16 -> 68961.542 | Y34: =$J34*'[1]נתוני אגירה'!$B$16 -> 68961.542 | Z34: =$J34*'[1]נתוני אגירה'!$B$16 -> 68961.542 | AA34: =$J34*'[1]נתוני אגירה'!$B$16 -> 68961.542 | AB34: =$J34*'[1]נתוני אגירה'!$B$16 -> 68961.542 | AC34: =$J34*'[1]נתוני אגירה'!$B$16 -> 68961.542 | AD34: =$J34*'[1]נתוני אגירה'!$B$16 -> 68961.542 | ... AP34: =$J34*'[1]נתוני אגירה'!$B$16 -> 68961.542
A35: זיקים | B35: 32 | C35: 1 | D35: 1875.7972 | E35: 9872.6168 | F35: 0.54106511 | G35: 1 | H35: 1 | I35: 1 | J35: =U35 -> 13716207 | K35: =V35 -> 2183510.1 | L35: 3266423.3 | M35: =O35 -> 24275177 | N35: =J35+K35 -> 15899717 | O35: 24275177 | P35: 2651362.5 | Q35: =L35+M35+P35 -> 30192963 | R35: =Q35-L35 -> 26926540 | S35: =J35 -> 13716207 | T35: =L35+K35 -> 5449933.3 | U35: =(D35*'[1]נתוני אגירה'!$B$8+'[1]נתוני אגירה'!$B$4*'נתונים מניתוח אגירה'!E35+'[1]נתוני אגירה'!$B$12)*'[1]נתוני אגירה'!$B$15 -> 13716207 | V35: =NPV('[1]נתוני אגירה'!$B$17,'נתונים מניתוח אגירה'!W35:AP35) -> 2183510.1 | W35: =$J35*'[1]נתוני אגירה'!$B$16 -> 256474.27 | X35: =$J35*'[1]נתוני אגירה'!$B$16 -> 256474.27 | Y35: =$J35*'[1]נתוני אגירה'!$B$16 -> 256474.27 | Z35: =$J35*'[1]נתוני אגירה'!$B$16 -> 256474.27 | AA35: =$J35*'[1]נתוני אגירה'!$B$16 -> 256474.27 | AB35: =$J35*'[1]נתוני אגירה'!$B$16 -> 256474.27 | AC35: =$J35*'[1]נתוני אגירה'!$B$16 -> 256474.27 | AD35: =$J35*'[1]נתוני אגירה'!$B$16 -> 256474.27 | ... AP35: =$J35*'[1]נתוני אגירה'!$B$16 -> 256474.27
A36: גברעם | B36: 33 | C36: 1 | D36: 326.50772 | E36: 1718.4617 | F36: 0.92195669 | G36: 1 | H36: 1 | I36: 1 | J36: =U36 -> 2945089.5 | K36: =V36 -> 468834.63 | L36: 3851553.2 | M36: =O36 -> 24699281 | N36: =J36+K36 -> 3413924.1 | O36: 24699281 | P36: 4636511 | Q36: =L36+M36+P36 -> 33187346 | R36: =Q36-L36 -> 29335792 | S36: =J36 -> 2945089.5 | T36: =L36+K36 -> 4320387.8 | U36: =(D36*'[1]נתוני אגירה'!$B$8+'[1]נתוני אגירה'!$B$4*'נתונים מניתוח אגירה'!E36+'[1]נתוני אגירה'!$B$12)*'[1]נתוני אגירה'!$B$15 -> 2945089.5 | V36: =NPV('[1]נתוני אגירה'!$B$17,'נתונים מניתוח אגירה'!W36:AP36) -> 468834.63 | W36: =$J36*'[1]נתוני אגירה'!$B$16 -> 55069.14 | X36: =$J36*'[1]נתוני אגירה'!$B$16 -> 55069.14 | Y36: =$J36*'[1]נתוני אגירה'!$B$16 -> 55069.14 | Z36: =$J36*'[1]נתוני אגירה'!$B$16 -> 55069.14 | AA36: =$J36*'[1]נתוני אגירה'!$B$16 -> 55069.14 | AB36: =$J36*'[1]נתוני אגירה'!$B$16 -> 55069.14 | AC36: =$J36*'[1]נתוני אגירה'!$B$16 -> 55069.14 | AD36: =$J36*'[1]נתוני אגירה'!$B$16 -> 55069.14 | ... AP36: =$J36*'[1]נתוני אגירה'!$B$16 -> 55069.14
A37: יד מרדכי | B37: 34 | C37: 1 | D37: 1373.5244 | E37: 7229.0756 | F37: 0.81058652 | G37: 1 | H37: 1 | I37: 1 | J37: =U37 -> 10224258 | K37: =V37 -> 1627619.8 | L37: 7248048.3 | M37: =O37 -> 42656268 | N37: =J37+K37 -> 11851878 | O37: 42656268 | P37: 7959755.1 | Q37: =L37+M37+P37 -> 57864071 | R37: =Q37-L37 -> 50616023 | S37: =J37 -> 10224258 | T37: =L37+K37 -> 8875668.1 | U37: =(D37*'[1]נתוני אגירה'!$B$8+'[1]נתוני אגירה'!$B$4*'נתונים מניתוח אגירה'!E37+'[1]נתוני אגירה'!$B$12)*'[1]נתוני אגירה'!$B$15 -> 10224258 | V37: =NPV('[1]נתוני אגירה'!$B$17,'נתונים מניתוח אגירה'!W37:AP37) -> 1627619.8 | W37: =$J37*'[1]נתוני אגירה'!$B$16 -> 191179.61 | X37: =$J37*'[1]נתוני אגירה'!$B$16 -> 191179.61 | Y37: =$J37*'[1]נתוני אגירה'!$B$16 -> 191179.61 | Z37: =$J37*'[1]נתוני אגירה'!$B$16 -> 191179.61 | AA37: =$J37*'[1]נתוני אגירה'!$B$16 -> 191179.61 | AB37: =$J37*'[1]נתוני אגירה'!$B$16 -> 191179.61 | AC37: =$J37*'[1]נתוני אגירה'!$B$16 -> 191179.61 | AD37: =$J37*'[1]נתוני אגירה'!$B$16 -> 191179.61 | ... AP37: =$J37*'[1]נתוני אגירה'!$B$16 -> 191179.61
A38: נתיבות | B38: 35 | C38: 1 | D38: 55524.857 | E38: 292236.09 | F38: 0.20249585 | G38: 1 | H38: 1 | I38: 1 | J38: =U38 -> 3.8670028e+08 | K38: =V38 -> 61559583 | L38: 83225552 | M38: =O38 -> 4.0761276e+08 | N38: =J38+K38 -> 4.4825986e+08 | O38: 4.0761276e+08 | P38: 1.9223361e+08 | Q38: =L38+M38+P38 -> 6.8307192e+08 | R38: =Q38-L38 -> 5.9984636e+08 | S38: =J38 -> 3.8670028e+08 | T38: =L38+K38 -> 1.4478513e+08 | U38: =(D38*'[1]נתוני אגירה'!$B$8+'[1]נתוני אגירה'!$B$4*'נתונים מניתוח אגירה'!E38+'[1]נתוני אגירה'!$B$12)*'[1]נתוני אגירה'!$B$15 -> 3.8670028e+08 | V38: =NPV('[1]נתוני אגירה'!$B$17,'נתונים מניתוח אגירה'!W38:AP38) -> 61559583 | W38: =$J38*'[1]נתוני אגירה'!$B$16 -> 7230765.5 | X38: =$J38*'[1]נתוני אגירה'!$B$16 -> 7230765.5 | Y38: =$J38*'[1]נתוני אגירה'!$B$16 -> 7230765.5 | Z38: =$J38*'[1]נתוני אגירה'!$B$16 -> 7230765.5 | AA38: =$J38*'[1]נתוני אגירה'!$B$16 -> 7230765.5 | AB38: =$J38*'[1]נתוני אגירה'!$B$16 -> 7230765.5 | AC38: =$J38*'[1]נתוני אגירה'!$B$16 -> 7230765.5 | AD38: =$J38*'[1]נתוני אגירה'!$B$16 -> 7230765.5 | ... AP38: =$J38*'[1]נתוני אגירה'!$B$16 -> 7230765.5
A39: זמרת | B39: 36 | C39: 1 | D39: 834.96292 | E39: 4394.5417 | F39: 0.26791721 | G39: 1 | H39: 1 | I39: 1 | J39: =U39 -> 6480019.9 | K39: =V39 -> 1031567.2 | L39: 1425192.6 | M39: =O39 -> 8436979.9 | N39: =J39+K39 -> 7511587.1 | O39: 8436979.9 | P39: 1495102.1 | Q39: =L39+M39+P39 -> 11357275 | R39: =Q39-L39 -> 9932082 | S39: =J39 -> 6480019.9 | T39: =L39+K39 -> 2456759.8 | U39: =(D39*'[1]נתוני אגירה'!$B$8+'[1]נתוני אגירה'!$B$4*'נתונים מניתוח אגירה'!E39+'[1]נתוני אגירה'!$B$12)*'[1]נתוני אגירה'!$B$15 -> 6480019.9 | V39: =NPV('[1]נתוני אגירה'!$B$17,'נתונים מניתוח אגירה'!W39:AP39) -> 1031567.2 | W39: =$J39*'[1]נתוני אגירה'!$B$16 -> 121167.5 | X39: =$J39*'[1]נתוני אגירה'!$B$16 -> 121167.5 | Y39: =$J39*'[1]נתוני אגירה'!$B$16 -> 121167.5 | Z39: =$J39*'[1]נתוני אגירה'!$B$16 -> 121167.5 | AA39: =$J39*'[1]נתוני אגירה'!$B$16 -> 121167.5 | AB39: =$J39*'[1]נתוני אגירה'!$B$16 -> 121167.5 | AC39: =$J39*'[1]נתוני אגירה'!$B$16 -> 121167.5 | AD39: =$J39*'[1]נתוני אגירה'!$B$16 -> 121167.5 | ... AP39: =$J39*'[1]נתוני אגירה'!$B$16 -> 121167.5
A40: כפר מימון | B40: 37 | C40: 1 | D40: 1113.5799 | E40: 5860.947 | F40: 0.19453565 | G40: 1 | H40: 1 | I40: 1 | J40: =U40 -> 8417047.5 | K40: =V40 -> 1339926.5 | L40: 1522488 | M40: =O40 -> 9894468.1 | N40: =J40+K40 -> 9756974 | O40: 9894468.1 | P40: 2613869.5 | Q40: =L40+M40+P40 -> 14030826 | R40: =Q40-L40 -> 12508338 | S40: =J40 -> 8417047.5 | T40: =L40+K40 -> 2862414.4 | U40: =(D40*'[1]נתוני אגירה'!$B$8+'[1]נתוני אגירה'!$B$4*'נתונים מניתוח אגירה'!E40+'[1]נתוני אגירה'!$B$12)*'[1]נתוני אגירה'!$B$15 -> 8417047.5 | V40: =NPV('[1]נתוני אגירה'!$B$17,'נתונים מניתוח אגירה'!W40:AP40) -> 1339926.5 | W40: =$J40*'[1]נתוני אגירה'!$B$16 -> 157387.26 | X40: =$J40*'[1]נתוני אגירה'!$B$16 -> 157387.26 | Y40: =$J40*'[1]נתוני אגירה'!$B$16 -> 157387.26 | Z40: =$J40*'[1]נתוני אגירה'!$B$16 -> 157387.26 | AA40: =$J40*'[1]נתוני אגירה'!$B$16 -> 157387.26 | AB40: =$J40*'[1]נתוני אגירה'!$B$16 -> 157387.26 | AC40: =$J40*'[1]נתוני אגירה'!$B$16 -> 157387.26 | AD40: =$J40*'[1]נתוני אגירה'!$B$16 -> 157387.26 | ... AP40: =$J40*'[1]נתוני אגירה'!$B$16 -> 157387.26
A41: שובה | B41: 38 | C41: 1 | D41: 1310.9393 | E41: 6899.6807 | F41: 0.23828628 | G41: 1 | H41: 1 | I41: 1 | J41: =U41 -> 9789148.2 | K41: =V41 -> 1558353.9 | L41: 2030369.4 | M41: =O41 -> 11555146 | N41: =J41+K41 -> 11347502 | O41: 11555146 | P41: 2136464.4 | Q41: =L41+M41+P41 -> 15721980 | R41: =Q41-L41 -> 13691611 | S41: =J41 -> 9789148.2 | T41: =L41+K41 -> 3588723.3 | U41: =(D41*'[1]נתוני אגירה'!$B$8+'[1]נתוני אגירה'!$B$4*'נתונים מניתוח אגירה'!E41+'[1]נתוני אגירה'!$B$12)*'[1]נתוני אגירה'!$B$15 -> 9789148.2 | V41: =NPV('[1]נתוני אגירה'!$B$17,'נתונים מניתוח אגירה'!W41:AP41) -> 1558353.9 | W41: =$J41*'[1]נתוני אגירה'!$B$16 -> 183043.66 | X41: =$J41*'[1]נתוני אגירה'!$B$16 -> 183043.66 | Y41: =$J41*'[1]נתוני אגירה'!$B$16 -> 183043.66 | Z41: =$J41*'[1]נתוני אגירה'!$B$16 -> 183043.66 | AA41: =$J41*'[1]נתוני אגירה'!$B$16 -> 183043.66 | AB41: =$J41*'[1]נתוני אגירה'!$B$16 -> 183043.66 | AC41: =$J41*'[1]נתוני אגירה'!$B$16 -> 183043.66 | AD41: =$J41*'[1]נתוני אגירה'!$B$16 -> 183043.66 | ... AP41: =$J41*'[1]נתוני אגירה'!$B$16 -> 183043.66
... A46: סעד | B46: 43 | C46: 1 | D46: 1664.5183 | E46: 8760.6225 | F46: 0.74597062 | G46: 1 | H46: 1 | I46: 1 | J46: =U46 -> 12247333 | K46: =V46 -> 1949677.2 | L46: 6012000.1 | M46: =O46 -> 38592884 | N46: =J46+K46 -> 14197010 | O46: 38592884 | P46: 8118210.3 | Q46: =L46+M46+P46 -> 52723094 | R46: =Q46-L46 -> 46711094 | S46: =J46 -> 12247333 | T46: =L46+K46 -> 7961677.3 | U46: =(D46*'[1]נתוני אגירה'!$B$8+'[1]נתוני אגירה'!$B$4*'נתונים מניתוח אגירה'!E46+'[1]נתוני אגירה'!$B$12)*'[1]נתוני אגירה'!$B$15 -> 12247333 | V46: =NPV('[1]נתוני אגירה'!$B$17,'נתונים מניתוח אגירה'!W46:AP46) -> 1949677.2 | W46: =$J46*'[1]נתוני אגירה'!$B$16 -> 229008.35 | X46: =$J46*'[1]נתוני אגירה'!$B$16 -> 229008.35 | Y46: =$J46*'[1]נתוני אגירה'!$B$16 -> 229008.35 | Z46: =$J46*'[1]נתוני אגירה'!$B$16 -> 229008.35 | AA46: =$J46*'[1]נתוני אגירה'!$B$16 -> 229008.35 | AB46: =$J46*'[1]נתוני אגירה'!$B$16 -> 229008.35 | AC46: =$J46*'[1]נתוני אגירה'!$B$16 -> 229008.35 | AD46: =$J46*'[1]נתוני אגירה'!$B$16 -> 229008.35 | ... AP46: =$J46*'[1]נתוני אגירה'!$B$16 -> 229008.35
A47: פארק תעשיות ספיר | B47: 44 | C47: 1 | J47: =U47 -> 0 | K47: =V47 -> 0 | L47: 1346742.7 | M47: =O47 -> 8727532.5 | O47: 8727532.5 | P47: 0 | Q47: =L47+M47+P47 -> 10074275 | R47: =Q47-L47 -> 8727532.5 | S47: =J47 -> 0 | T47: =L47+K47 -> 1346742.7 | V47: =NPV('[1]נתוני אגירה'!$B$17,'נתונים מניתוח אגירה'!W47:AP47) -> 0 | W47: =$J47*'[1]נתוני אגירה'!$B$16 -> 0 | X47: =$J47*'[1]נתוני אגירה'!$B$16 -> 0 | Y47: =$J47*'[1]נתוני אגירה'!$B$16 -> 0 | Z47: =$J47*'[1]נתוני אגירה'!$B$16 -> 0 | AA47: =$J47*'[1]נתוני אגירה'!$B$16 -> 0 | AB47: =$J47*'[1]נתוני אגירה'!$B$16 -> 0 | AC47: =$J47*'[1]נתוני אגירה'!$B$16 -> 0 | AD47: =$J47*'[1]נתוני אגירה'!$B$16 -> 0 | ... AP47: =$J47*'[1]נתוני אגירה'!$B$16 -> 0
A48: שדרות | B48: 45 | C48: 1 | D48: 49705.495 | E48: 261607.87 | F48: 0.10970042 | G48: 0.86953161 | H48: 1 | I48: 1 | J48: =U48 -> 3.4624236e+08 | K48: =V48 -> 55119007 | L48: 58081646 | M48: =O48 -> 3.1266477e+08 | N48: =J48+K48 -> 4.0136137e+08 | O48: 3.1266477e+08 | P48: 89414219 | Q48: =L48+M48+P48 -> 4.6016064e+08 | R48: =Q48-L48 -> 4.0207899e+08 | S48: =J48 -> 3.4624236e+08 | T48: =L48+K48 -> 1.1320065e+08 | U48: =(D48*'[1]נתוני אגירה'!$B$8+'[1]נתוני אגירה'!$B$4*'נתונים מניתוח אגירה'!E48+'[1]נתוני אגירה'!$B$12)*'[1]נתוני אגירה'!$B$15 -> 3.4624236e+08 | V48: =NPV('[1]נתוני אגירה'!$B$17,'נתונים מניתוח אגירה'!W48:AP48) -> 55119007 | W48: =$J48*'[1]נתוני אגירה'!$B$16 -> 6474257.9 | X48: =$J48*'[1]נתוני אגירה'!$B$16 -> 6474257.9 | Y48: =$J48*'[1]נתוני אגירה'!$B$16 -> 6474257.9 | Z48: =$J48*'[1]נתוני אגירה'!$B$16 -> 6474257.9 | AA48: =$J48*'[1]נתוני אגירה'!$B$16 -> 6474257.9 | AB48: =$J48*'[1]נתוני אגירה'!$B$16 -> 6474257.9 | AC48: =$J48*'[1]נתוני אגירה'!$B$16 -> 6474257.9 | AD48: =$J48*'[1]נתוני אגירה'!$B$16 -> 6474257.9 | ... AP48: =$J48*'[1]נתוני אגירה'!$B$16 -> 6474257.9
A49: איבים | B49: 46 | C49: 1 | D49: 321.89345 | E49: 1694.1761 | F49: 0.054330985 | G49: 0.79988645 | H49: 1 | I49: 1 | J49: =U49 -> 2913009.7 | K49: =V49 -> 463727.79 | L49: 455223.73 | M49: =O49 -> 2482789.1 | N49: =J49+K49 -> 3376737.5 | O49: 2482789.1 | P49: 1051152.8 | Q49: =L49+M49+P49 -> 3989165.7 | R49: =Q49-L49 -> 3533942 | S49: =J49 -> 2913009.7 | T49: =L49+K49 -> 918951.51 | U49: =(D49*'[1]נתוני אגירה'!$B$8+'[1]נתוני אגירה'!$B$4*'נתונים מניתוח אגירה'!E49+'[1]נתוני אגירה'!$B$12)*'[1]נתוני אגירה'!$B$15 -> 2913009.7 | V49: =NPV('[1]נתוני אגירה'!$B$17,'נתונים מניתוח אגירה'!W49:AP49) -> 463727.79 | W49: =$J49*'[1]נתוני אגירה'!$B$16 -> 54469.292 | X49: =$J49*'[1]נתוני אגירה'!$B$16 -> 54469.292 | Y49: =$J49*'[1]נתוני אגירה'!$B$16 -> 54469.292 | Z49: =$J49*'[1]נתוני אגירה'!$B$16 -> 54469.292 | AA49: =$J49*'[1]נתוני אגירה'!$B$16 -> 54469.292 | AB49: =$J49*'[1]נתוני אגירה'!$B$16 -> 54469.292 | AC49: =$J49*'[1]נתוני אגירה'!$B$16 -> 54469.292 | AD49: =$J49*'[1]נתוני אגירה'!$B$16 -> 54469.292 | ... AP49: =$J49*'[1]נתוני אגירה'!$B$16 -> 54469.292
A50: אור הנר | B50: 47 | C50: 1 | D50: 1061.6403 | E50: 5587.5805 | F50: 0.71200896 | G50: 1 | H50: 1 | I50: 1 | J50: =U50 -> 8055947.8 | K50: =V50 -> 1282442.3 | L50: 3491887.7 | M50: =O50 -> 21335572 | N50: =J50+K50 -> 9338390.1 | O50: 21335572 | P50: 5416035.5 | Q50: =L50+M50+P50 -> 30243495 | R50: =Q50-L50 -> 26751608 | S50: =J50 -> 8055947.8 | T50: =L50+K50 -> 4774330 | U50: =(D50*'[1]נתוני אגירה'!$B$8+'[1]נתוני אגירה'!$B$4*'נתונים מניתוח אגירה'!E50+'[1]נתוני אגירה'!$B$12)*'[1]נתוני אגירה'!$B$15 -> 8055947.8 | V50: =NPV('[1]נתוני אגירה'!$B$17,'נתונים מניתוח אגירה'!W50:AP50) -> 1282442.3 | W50: =$J50*'[1]נתוני אגירה'!$B$16 -> 150635.19 | X50: =$J50*'[1]נתוני אגירה'!$B$16 -> 150635.19 | Y50: =$J50*'[1]נתוני אגירה'!$B$16 -> 150635.19 | Z50: =$J50*'[1]נתוני אגירה'!$B$16 -> 150635.19 | AA50: =$J50*'[1]נתוני אגירה'!$B$16 -> 150635.19 | AB50: =$J50*'[1]נתוני אגירה'!$B$16 -> 150635.19 | AC50: =$J50*'[1]נתוני אגירה'!$B$16 -> 150635.19 | AD50: =$J50*'[1]נתוני אגירה'!$B$16 -> 150635.19 | ... AP50: =$J50*'[1]נתוני אגירה'!$B$16 -> 150635.19
A51: ארז | B51: 48 | C51: 1 | D51: 548.54071 | E51: 2887.0564 | F51: 0.85310829 | G51: 1 | H51: 1 | I51: 1 | J51: =U51 -> 4488728.3 | K51: =V51 -> 714569.54 | L51: 3385125.4 | M51: =O51 -> 23115318 | N51: =J51+K51 -> 5203297.8 | O51: 23115318 | P51: 3388243.9 | Q51: =L51+M51+P51 -> 29888687 | R51: =Q51-L51 -> 26503562 | S51: =J51 -> 4488728.3 | T51: =L51+K51 -> 4099695 | U51: =(D51*'[1]נתוני אגירה'!$B$8+'[1]נתוני אגירה'!$B$4*'נתונים מניתוח אגירה'!E51+'[1]נתוני אגירה'!$B$12)*'[1]נתוני אגירה'!$B$15 -> 4488728.3 | V51: =NPV('[1]נתוני אגירה'!$B$17,'נתונים מניתוח אגירה'!W51:AP51) -> 714569.54 | W51: =$J51*'[1]נתוני אגירה'!$B$16 -> 83933.07 | X51: =$J51*'[1]נתוני אגירה'!$B$16 -> 83933.07 | Y51: =$J51*'[1]נתוני אגירה'!$B$16 -> 83933.07 | Z51: =$J51*'[1]נתוני אגירה'!$B$16 -> 83933.07 | AA51: =$J51*'[1]נתוני אגירה'!$B$16 -> 83933.07 | AB51: =$J51*'[1]נתוני אגירה'!$B$16 -> 83933.07 | AC51: =$J51*'[1]נתוני אגירה'!$B$16 -> 83933.07 | AD51: =$J51*'[1]נתוני אגירה'!$B$16 -> 83933.07 | ... AP51: =$J51*'[1]נתוני אגירה'!$B$16 -> 83933.07
A52: נחל עוז | B52: 49 | C52: 1 | D52: 800.92365 | E52: 4215.3877 | F52: 0.82769716 | G52: 1 | H52: 1 | I52: 1 | J52: =U52 -> 6243368.9 | K52: =V52 -> 993894.25 | L52: 3439734.1 | M52: =O52 -> 28391163 | N52: =J52+K52 -> 7237263.2 | O52: 28391163 | P52: 5778209.5 | Q52: =L52+M52+P52 -> 37609107 | R52: =Q52-L52 -> 34169373 | S52: =J52 -> 6243368.9 | T52: =L52+K52 -> 4433628.3 | U52: =(D52*'[1]נתוני אגירה'!$B$8+'[1]נתוני אגירה'!$B$4*'נתונים מניתוח אגירה'!E52+'[1]נתוני אגירה'!$B$12)*'[1]נתוני אגירה'!$B$15 -> 6243368.9 | V52: =NPV('[1]נתוני אגירה'!$B$17,'נתונים מניתוח אגירה'!W52:AP52) -> 993894.25 | W52: =$J52*'[1]נתוני אגירה'!$B$16 -> 116742.45 | X52: =$J52*'[1]נתוני אגירה'!$B$16 -> 116742.45 | Y52: =$J52*'[1]נתוני אגירה'!$B$16 -> 116742.45 | Z52: =$J52*'[1]נתוני אגירה'!$B$16 -> 116742.45 | AA52: =$J52*'[1]נתוני אגירה'!$B$16 -> 116742.45 | AB52: =$J52*'[1]נתוני אגירה'!$B$16 -> 116742.45 | AC52: =$J52*'[1]נתוני אגירה'!$B$16 -> 116742.45 | AD52: =$J52*'[1]נתוני אגירה'!$B$16 -> 116742.45 | ... AP52: =$J52*'[1]נתוני אגירה'!$B$16 -> 116742.45
A53: ברור חיל | B53: 50 | C53: 1 | D53: 169.69883 | E53: 893.15175 | F53: 0.96061023 | G53: 1 | H53: 1 | I53: 1 | J53: =U53 -> 1854907.9 | K53: =V53 -> 295286.46 | L53: 4000878 | M53: =O53 -> 28521299 | N53: =J53+K53 -> 2150194.3 | O53: 28521299 | P53: 5350012.1 | Q53: =L53+M53+P53 -> 37872189 | R53: =Q53-L53 -> 33871311 | S53: =J53 -> 1854907.9 | T53: =L53+K53 -> 4296164.4 | U53: =(D53*'[1]נתוני אגירה'!$B$8+'[1]נתוני אגירה'!$B$4*'נתונים מניתוח אגירה'!E53+'[1]נתוני אגירה'!$B$12)*'[1]נתוני אגירה'!$B$15 -> 1854907.9 | V53: =NPV('[1]נתוני אגירה'!$B$17,'נתונים מניתוח אגירה'!W53:AP53) -> 295286.46 | W53: =$J53*'[1]נתוני אגירה'!$B$16 -> 34684.237 | X53: =$J53*'[1]נתוני אגירה'!$B$16 -> 34684.237 | Y53: =$J53*'[1]נתוני אגירה'!$B$16 -> 34684.237 | Z53: =$J53*'[1]נתוני אגירה'!$B$16 -> 34684.237 | AA53: =$J53*'[1]נתוני אגירה'!$B$16 -> 34684.237 | AB53: =$J53*'[1]נתוני אגירה'!$B$16 -> 34684.237 | AC53: =$J53*'[1]נתוני אגירה'!$B$16 -> 34684.237 | AD53: =$J53*'[1]נתוני אגירה'!$B$16 -> 34684.237 | ... AP53: =$J53*'[1]נתוני אגירה'!$B$16 -> 34684.237
A54: מפלסים | B54: 51 | C54: 1 | D54: 1034.8929 | E54: 5446.8047 | F54: 0.79450207 | G54: 1 | H54: 1 | I54: 1 | J54: =U54 -> 7869992 | K54: =V54 -> 1252839.6 | L54: 4693243.6 | M54: =O54 -> 29524137 | N54: =J54+K54 -> 9122831.6 | O54: 29524137 | P54: 6206945.6 | Q54: =L54+M54+P54 -> 40424327 | R54: =Q54-L54 -> 35731083 | S54: =J54 -> 7869992 | T54: =L54+K54 -> 5946083.2 | U54: =(D54*'[1]נתוני אגירה'!$B$8+'[1]נתוני אגירה'!$B$4*'נתונים מניתוח אגירה'!E54+'[1]נתוני אגירה'!$B$12)*'[1]נתוני אגירה'!$B$15 -> 7869992 | V54: =NPV('[1]נתוני אגירה'!$B$17,'נתונים מניתוח אגירה'!W54:AP54) -> 1252839.6 | W54: =$J54*'[1]נתוני אגירה'!$B$16 -> 147158.07 | X54: =$J54*'[1]נתוני אגירה'!$B$16 -> 147158.07 | Y54: =$J54*'[1]נתוני אגירה'!$B$16 -> 147158.07 | Z54: =$J54*'[1]נתוני אגירה'!$B$16 -> 147158.07 | AA54: =$J54*'[1]נתוני אגירה'!$B$16 -> 147158.07 | AB54: =$J54*'[1]נתוני אגירה'!$B$16 -> 147158.07 | AC54: =$J54*'[1]נתוני אגירה'!$B$16 -> 147158.07 | AD54: =$J54*'[1]נתוני אגירה'!$B$16 -> 147158.07 | ... AP54: =$J54*'[1]נתוני אגירה'!$B$16 -> 147158.07
A55: כפר עזה | B55: 52 | C55: 1 | D55: 889.43667 | E55: 4681.2456 | F55: 0.86847077 | G55: 1 | H55: 1 | I55: 1 | J55: =U55 -> 6858737.5 | K55: =V55 -> 1091856 | L55: 5213082.1 | M55: =O55 -> 40435448 | N55: =J55+K55 -> 7950593.5 | O55: 40435448 | P55: 10264790 | Q55: =L55+M55+P55 -> 55913320 | R55: =Q55-L55 -> 50700238 | S55: =J55 -> 6858737.5 | T55: =L55+K55 -> 6304938.1 | U55: =(D55*'[1]נתוני אגירה'!$B$8+'[1]נתוני אגירה'!$B$4*'נתונים מניתוח אגירה'!E55+'[1]נתוני אגירה'!$B$12)*'[1]נתוני אגירה'!$B$15 -> 6858737.5 | V55: =NPV('[1]נתוני אגירה'!$B$17,'נתונים מניתוח אגירה'!W55:AP55) -> 1091856 | W55: =$J55*'[1]נתוני אגירה'!$B$16 -> 128249 | X55: =$J55*'[1]נתוני אגירה'!$B$16 -> 128249 | Y55: =$J55*'[1]נתוני אגירה'!$B$16 -> 128249 | Z55: =$J55*'[1]נתוני אגירה'!$B$16 -> 128249 | AA55: =$J55*'[1]נתוני אגירה'!$B$16 -> 128249 | AB55: =$J55*'[1]נתוני אגירה'!$B$16 -> 128249 | AC55: =$J55*'[1]נתוני אגירה'!$B$16 -> 128249 | AD55: =$J55*'[1]נתוני אגירה'!$B$16 -> 128249 | ... AP55: =$J55*'[1]נתוני אגירה'!$B$16 -> 128249
A56: יכיני | B56: 53 | C56: 1 | D56: 1168.1097 | E56: 6147.946 | F56: 0.83383816 | G56: 1 | H56: 1 | I56: 1 | J56: =U56 -> 8796154.8 | K56: =V56 -> 1400277.3 | L56: 6350691.1 | M56: =O56 -> 41074538 | N56: =J56+K56 -> 10196432 | O56: 41074538 | P56: 2891224.3 | Q56: =L56+M56+P56 -> 50316453 | R56: =Q56-L56 -> 43965762 | S56: =J56 -> 8796154.8 | T56: =L56+K56 -> 7750968.4 | U56: =(D56*'[1]נתוני אגירה'!$B$8+'[1]נתוני אגירה'!$B$4*'נתונים מניתוח אגירה'!E56+'[1]נתוני אגירה'!$B$12)*'[1]נתוני אגירה'!$B$15 -> 8796154.8 | V56: =NPV('[1]נתוני אגירה'!$B$17,'נתונים מניתוח אגירה'!W56:AP56) -> 1400277.3 | W56: =$J56*'[1]נתוני אגירה'!$B$16 -> 164476.04 | X56: =$J56*'[1]נתוני אגירה'!$B$16 -> 164476.04 | Y56: =$J56*'[1]נתוני אגירה'!$B$16 -> 164476.04 | Z56: =$J56*'[1]נתוני אגירה'!$B$16 -> 164476.04 | AA56: =$J56*'[1]נתוני אגירה'!$B$16 -> 164476.04 | AB56: =$J56*'[1]נתוני אגירה'!$B$16 -> 164476.04 | AC56: =$J56*'[1]נתוני אגירה'!$B$16 -> 164476.04 | AD56: =$J56*'[1]נתוני אגירה'!$B$16 -> 164476.04 | ... AP56: =$J56*'[1]נתוני אגירה'!$B$16 -> 164476.04
A57: ניר עם | B57: 54 | C57: 1 | D57: 1626.1925 | E57: 8558.908 | F57: 0.85377094 | G57: 1 | H57: 1 | I57: 1 | J57: =U57 -> 11980881 | K57: =V57 -> 1907260.2 | L57: 14063962 | M57: =O57 -> 61115823 | N57: =J57+K57 -> 13888142 | O57: 61115823 | P57: 53786337 | Q57: =L57+M57+P57 -> 1.2896612e+08 | R57: =Q57-L57 -> 1.1490216e+08 | S57: =J57 -> 11980881 | T57: =L57+K57 -> 15971222 | U57: =(D57*'[1]נתוני אגירה'!$B$8+'[1]נתוני אגירה'!$B$4*'נתונים מניתוח אגירה'!E57+'[1]נתוני אגירה'!$B$12)*'[1]נתוני אגירה'!$B$15 -> 11980881 | V57: =NPV('[1]נתוני אגירה'!$B$17,'נתונים מניתוח אגירה'!W57:AP57) -> 1907260.2 | W57: =$J57*'[1]נתוני אגירה'!$B$16 -> 224026.07 | X57: =$J57*'[1]נתוני אגירה'!$B$16 -> 224026.07 | Y57: =$J57*'[1]נתוני אגירה'!$B$16 -> 224026.07 | Z57: =$J57*'[1]נתוני אגירה'!$B$16 -> 224026.07 | AA57: =$J57*'[1]נתוני אגירה'!$B$16 -> 224026.07 | AB57: =$J57*'[1]נתוני אגירה'!$B$16 -> 224026.07 | AC57: =$J57*'[1]נתוני אגירה'!$B$16 -> 224026.07 | AD57: =$J57*'[1]נתוני אגירה'!$B$16 -> 224026.07 | ... AP57: =$J57*'[1]נתוני אגירה'!$B$16 -> 224026.07
A58: גבים | B58: 55 | C58: 1 | D58: 1831.9076 | E58: 9641.6191 | F58: 0.86374637 | G58: 1 | H58: 1 | I58: 1 | J58: =U58 -> 13411073 | K58: =V58 -> 2134935.3 | L58: 19074011 | M58: =O58 -> 77198616 | N58: =J58+K58 -> 15546009 | O58: 77198616 | P58: 53901493 | Q58: =L58+M58+P58 -> 1.5017412e+08 | R58: =Q58-L58 -> 1.3110011e+08 | S58: =J58 -> 13411073 | T58: =L58+K58 -> 21208946 | U58: =(D58*'[1]נתוני אגירה'!$B$8+'[1]נתוני אגירה'!$B$4*'נתונים מניתוח אגירה'!E58+'[1]נתוני אגירה'!$B$12)*'[1]נתוני אגירה'!$B$15 -> 13411073 | V58: =NPV('[1]נתוני אגירה'!$B$17,'נתונים מניתוח אגירה'!W58:AP58) -> 2134935.3 | W58: =$J58*'[1]נתוני אגירה'!$B$16 -> 250768.7 | X58: =$J58*'[1]נתוני אגירה'!$B$16 -> 250768.7 | Y58: =$J58*'[1]נתוני אגירה'!$B$16 -> 250768.7 | Z58: =$J58*'[1]נתוני אגירה'!$B$16 -> 250768.7 | AA58: =$J58*'[1]נתוני אגירה'!$B$16 -> 250768.7 | AB58: =$J58*'[1]נתוני אגירה'!$B$16 -> 250768.7 | AC58: =$J58*'[1]נתוני אגירה'!$B$16 -> 250768.7 | AD58: =$J58*'[1]נתוני אגירה'!$B$16 -> 250768.7 | ... AP58: =$J58*'[1]נתוני אגירה'!$B$16 -> 250768.7
C59: 3 | D59: 4 | E59: 5 | F59: 6 | G59: 7 | H59: 8 | I59: 9 | J59: 10 | K59: 11 | L59: 12 | M59: =O59 -> 15 | N59: 14 | O59: 15 | P59: 16 | Q59: 17 | T59: =L59+K59 -> 23
A60: יישוב נבחר | B60: ='[1]גרפים יישוב'!F4 -> נחל עוז | C60: =VLOOKUP($B$60,$A$4:$I$58,C59,FALSE) -> 1 | D60: =VLOOKUP($B$60,$A$4:$I$58,D59,FALSE) -> 800.92365 | E60: =VLOOKUP($B$60,$A$4:$I$58,E59,FALSE) -> 4215.3877 | F60: =VLOOKUP($B$60,$A$4:$I$58,F59,FALSE) -> 0.82769716 | G60: =VLOOKUP($B$60,$A$4:$I$58,G59,FALSE) -> 1 | H60: =VLOOKUP($B$60,$A$4:$I$58,H59,FALSE) -> 1 | I60: =VLOOKUP($B$60,$A$4:$I$58,I59,FALSE) -> 1 | J60: =VLOOKUP($B$60,$A$4:$M$58,J59,FALSE)/10^6 -> 6.2433689 | K60: =VLOOKUP($B$60,$A$4:$M$58,K59,FALSE)/10^6 -> 0.99389425 | L60: =VLOOKUP($B$60,$A$4:$M$58,L59,FALSE)/10^6 -> 3.4397341 | M60: =O60 -> 28.391163 | N60: =VLOOKUP($B$60,$A$4:$Q$58,N59,FALSE)/10^6 -> 7.2372632 | O60: =VLOOKUP($B$60,$A$4:$Q$58,O59,FALSE)/10^6 -> 28.391163 | P60: =VLOOKUP($B$60,$A$4:$Q$58,P59,FALSE)/10^6 -> 5.7782095 | Q60: =L60+M60+P60 -> 37.609107 | T60: =N60+Q60 -> 44.84637 | W60: =VLOOKUP($B$60,$A$4:$Q$58,W59,FALSE) -> #VALUE! | X60: =VLOOKUP($B$60,$A$4:$Q$58,X59,FALSE) -> #VALUE! | Y60: =VLOOKUP($B$60,$A$4:$Q$58,Y59,FALSE) -> #VALUE! | Z60: =VLOOKUP($B$60,$A$4:$Q$58,Z59,FALSE) -> #VALUE! | AA60: =VLOOKUP($B$60,$A$4:$Q$58,AA59,FALSE) -> #VALUE! | AB60: =VLOOKUP($B$60,$A$4:$Q$58,AB59,FALSE) -> #VALUE! | AC60: =VLOOKUP($B$60,$A$4:$Q$58,AC59,FALSE) -> #VALUE! | AD60: =VLOOKUP($B$60,$A$4:$Q$58,AD59,FALSE) -> #VALUE! | ... AP60: =VLOOKUP($B$60,$A$4:$Q$58,AP59,FALSE) -> #VALUE!
U62: =SUM(U4:U58) -> 1.1655056e+09 | V62: =SUM(V4:V58) -> 1.8553915e+08

Sheet נתוני פי וי ושטח
C1: מר / ק"ו
B2: יחס שטח / פי וי | C2: 8.3
A4: 1 | B4: 2 | C4: 3 | D4: 4 | E4: 5 | F4: 6 | G4: 7
A5: שם יישוב | B5: פוטנציאל פי וי | C5: פי וי עם קירוי | D5: פי וי ללא קירוי | E5: שטח פי וי ללא קירוי | F5: שטח פי וי עם קירוי | G5: שיעור קירוי
A6: אבשלום | B6: 822.23494 | C6: 170.98795 | D6: =B6-C6 -> 651.24699 | E6: =D6*$C$2 -> 5405.35 | F6: =C6*$C$2 -> 1419.2 | G6: =F6/(F6+E6) -> 0.2079551
A7: אוהד | B7: 1419.994 | C7: 0 | D7: =B7-C7 -> 1419.994 | E7: =D7*$C$2 -> 11785.95 | F7: =C7*$C$2 -> 0 | G7: =F7/(F7+E7) -> 0
A8: אור הנר | B8: 6971.4157 | C8: 1154.4096 | D8: =B8-C8 -> 5817.006 | E8: =D8*$C$2 -> 48281.15 | F8: =C8*$C$2 -> 9581.6 | G8: =F8/(F8+E8) -> 0.16559185
A9: איבים | B9: 572.39759 | C9: 190.33735 | D9: =B9-C9 -> 382.06024 | E9: =D9*$C$2 -> 3171.1 | F9: =C9*$C$2 -> 1579.8 | G9: =F9/(F9+E9) -> 0.33252647
A10: ארז | B10: 6762.6928 | C10: 1414.9157 | D10: =B10-C10 -> 5347.7771 | E10: =D10*$C$2 -> 44386.55 | F10: =C10*$C$2 -> 11743.8 | G10: =F10/(F10+E10) -> 0.20922371
A11: בארי | B11: 8014.3434 | C11: 1588.7349 | D11: =B11-C11 -> 6425.6084 | E11: =D11*$C$2 -> 53332.55 | F11: =C11*$C$2 -> 13186.5 | G11: =F11/(F11+E11) -> 0.19823645
A12: ברור חיל | B12: 8631.4096 | C12: 2757.4699 | D12: =B12-C12 -> 5873.9398 | E12: =D12*$C$2 -> 48753.7 | F12: =C12*$C$2 -> 22887 | G12: =F12/(F12+E12) -> 0.31946924
A13: גבים | B13: 25171.06 | C13: 14977.578 | D13: =B13-C13 -> 10193.482 | E13: =D13*$C$2 -> 84605.9 | F13: =C13*$C$2 -> 124313.9 | G13: =F13/(F13+E13) -> 0.59503168
A14: גברעם | B14: 7457.3976 | C14: 1094.5904 | D14: =B14-C14 -> 6362.8072 | E14: =D14*$C$2 -> 52811.3 | F14: =C14*$C$2 -> 9085.1 | G14: =F14/(F14+E14) -> 0.14677913
A15: דקל | B15: 2201.8976 | C15: 523.39759 | D15: =B15-C15 -> 1678.5 | E15: =D15*$C$2 -> 13931.55 | F15: =C15*$C$2 -> 4344.2 | G15: =F15/(F15+E15) -> 0.23770297
A16: זיקים | B16: 8069.5482 | C16: 758.48193 | D16: =B16-C16 -> 7311.0663 | E16: =D16*$C$2 -> 60681.85 | F16: =C16*$C$2 -> 6295.4 | G16: =F16/(F16+E16) -> 0.09399311
A17: זמרת | B17: 2058.4398 | C17: 328.43373 | D17: =B17-C17 -> 1730.006 | E17: =D17*$C$2 -> 14359.05 | F17: =C17*$C$2 -> 2726 | G17: =F17/(F17+E17) -> 0.1595547
... A60: כפר מיימון2 | B60: 2455.4157 | C60: 544.96386 | D60: =B60-C60 -> 1910.4518 | E60: =D60*$C$2 -> 15856.75 | F60: =C60*$C$2 -> 4523.2 | G60: =F60/(F60+E60) -> 0.22194363

Sheet שדרות מול נחל עוז
B1: מס' תשובים | C1: צריכה ישובית שנתית
A2: שדרות | B2: 27635
A3: נחל עוז | B3: 490

Sheet Sheet1
A2: אבשלום | B2: אוהד
A3: אוהד | B3: אור הנר
A4: אור הנר | B4: איבים
A5: איבים | B5: ארז
A6: ארז | B6: בארי
A7: בארי | B7: ברור חיל
A8: ברור חיל | B8: גבים
A9: גבים | B9: גברעם
A10: גברעם | B10: דקל
A11: דקל | B11: דקל
A12: זיקים | B12: זיקים
A13: זמרת | B13: זמרת
... A53: תקומה | B53: שוקדה

Sheet Sheet6
A54: תושיה
A55: תלמי אליהו
A56: תלמי יוסף
A57: תקומה
